{"text_format":"1","workbook":"xlsx","n_sheets":26,"sheets":["GERAL","Anual e Mensal","1","2","3","4","5","6","7","8","9","10","11","12","imp1","imp2","imp3","imp4","imp5","imp6","imp7","imp8","imp9","imp10","imp11","imp12"],"not_rendered":{"charts":0,"images":5,"macros":1,"external_links":0,"defined_names":1,"comments":0,"pivot_tables":0},"unopened":[],"bounds":{"document_bytes":16777216,"sheet_cells":100000,"rows_first":2000,"rows_last":500,"rows_between":2000,"halvings":0,"cell_chars":16384,"cell_head_chars":4096},"cells_cut":0,"cells_raw":0,"read":"whole","date_system":"1900"}

{"sheet":"GERAL","index":0,"n_rows":31,"n_cols":16,"rows_kept":31,"cut":false,"hidden":false,"merged":[[27,1,27,11],[19,1,25,17],[14,0,14,20],[15,0,17,9],[15,10,17,20],[0,0,10,3],[0,4,10,20],[12,1,12,4],[13,1,13,20],[11,0,11,20],[12,7,12,12]]}
[" ",null,null,null,"SISTEMA PARA EMISSÃO DE RELATORIO MENSAL PARA MEI"]
[]
[]
[]
[]
[]
[]
[]
[]
[]
[]
["Configurações"]
["CNPJ:","01.000.20/0001-00",null,null,null,null,"Cidade","Blumenau",null,null,null,null,null,null,"Ano",2019]
["RAZÃO SOCIAL:","teste"]
[]
["Como existe a necessidade de gerar o relatorio de receitas brutas mensalmemente e para ter o controle mais facil ao final do ano. Criamos esta planilha tem como objetivo  de facilitar essa geração com uma planilha automatizada e gratuita.",null,null,null,null,null,null,null,null,null,"Duvidas e sugestões envie um email para suporte@ejvsolucoes.com "]
[]
[]
[]
[null,"Caso você esteja procurando um controle maior para sua empresa, como controle financeiro, emissão de notas (serviço ou NF-e), entre em contato conosco pelo e-mail comercial@ejvsolucoes.com. Agora estamos com uma novidade que é a emissão de notas direto do seu celular."]
[]
[]
[]
[]
[]
[]
[]
[null,"Ajudenos a criarmos mais conteudos gratuitos faça uma doação de qualquer valor."]
[]
[]
[null,null,null,null,null,null,null,null,null,null,null,null,null,null,"teste"]

{"sheet":"Anual e Mensal","index":1,"n_rows":9,"n_cols":14,"rows_kept":9,"cut":false,"hidden":false,"merged":[[0,0,0,13]]}
["Vendas Anual e Mensal"]
["Mês",1,2,3,4,5,6,7,8,9,10,11,12,"Totais"]
["Produtos (revenda) com nota",{"$f":"'1'!B1001","v":0},{"$f":"'2'!B1001","v":0},{"$f":"'3'!B1001","v":0},{"$f":"'4'!B1001","v":0},{"$f":"'5'!B1001","v":0},{"$f":"'6'!B1001","v":0},{"$f":"'7'!B1001","v":0},{"$f":"'8'!B1001","v":0},{"$f":"'9'!B1001","v":0},{"$f":"'10'!B1001","v":0},{"$f":"'11'!B1001","v":0},{"$f":"'12'!B1001","v":0},{"$f":"SUM(B3:M3)","v":0}]
["Produtos (revenda) sem nota",{"$f":"'1'!C1001","v":0},{"$f":"'2'!C1001","v":0},{"$f":"'3'!C1001","v":0},{"$f":"'4'!C1001","v":0},{"$f":"'5'!C1001","v":0},{"$f":"'6'!C1001","v":0},{"$f":"'7'!C1001","v":0},{"$f":"'8'!C1001","v":0},{"$f":"'9'!C1001","v":0},{"$f":"'10'!C1001","v":0},{"$f":"'11'!C1001","v":0},{"$f":"'12'!C1001","v":0},0]
["Produtos (industrializados) s/ nota",{"$f":"'1'!G1001","v":0},{"$f":"'2'!G1001","v":0},{"$f":"'3'!G1001","v":0},{"$f":"'4'!G1001","v":0},{"$f":"'5'!G1001","v":0},{"$f":"'6'!G1001","v":0},{"$f":"'7'!G1001","v":0},{"$f":"'8'!G1001","v":0},{"$f":"'9'!G1001","v":0},{"$f":"'10'!G1001","v":0},{"$f":"'11'!G1001","v":0},{"$f":"'12'!G1001","v":0},0]
["Produtos (industrializados) c/ nota",{"$f":"'1'!F1001","v":0},{"$f":"'2'!F1001","v":0},{"$f":"'3'!F1001","v":0},{"$f":"'4'!F1001","v":0},{"$f":"'5'!F1001","v":0},{"$f":"'6'!F1001","v":0},{"$f":"'7'!F1001","v":0},{"$f":"'8'!F1001","v":0},{"$f":"'9'!F1001","v":0},{"$f":"'10'!F1001","v":0},{"$f":"'11'!F1001","v":0},{"$f":"'12'!F1001","v":0},0]
["Seviços sem nota",{"$f":"'1'!K1001","v":0},{"$f":"'2'!K1001","v":0},{"$f":"'3'!K1001","v":0},{"$f":"'4'!K1001","v":0},{"$f":"'5'!K1001","v":0},{"$f":"'6'!K1001","v":0},{"$f":"'7'!K1001","v":0},{"$f":"'8'!K1001","v":0},{"$f":"'9'!K1001","v":0},{"$f":"'10'!K1001","v":0},{"$f":"'11'!K1001","v":0},{"$f":"'12'!K1001","v":0},0]
["Serviços com nota",{"$f":"'1'!J1001","v":0},{"$f":"'2'!J1001","v":0},{"$f":"'3'!J1001","v":0},{"$f":"'4'!J1001","v":0},{"$f":"'5'!J1001","v":0},{"$f":"'6'!J1001","v":0},{"$f":"'7'!J1001","v":0},{"$f":"'8'!J1001","v":0},{"$f":"'9'!J1001","v":0},{"$f":"'10'!J1001","v":0},{"$f":"'11'!J1001","v":0},{"$f":"'12'!J1001","v":0},0]
["Totais",{"$f":"SUM(B3:B8)","v":0},0,0,0,0,0,0,0,0,0,0,0,0]

{"sheet":"1","index":2,"n_rows":1001,"n_cols":11,"rows_kept":1001,"cut":false,"hidden":false,"merged":[[0,0,0,2],[0,4,0,6],[0,8,0,10],[0,12,5,13]]}
["REVENDA DE MERCADORIA (COMERCIO)",null,null,null,"VENDA DE PRODUTOS INDUSTRIALIZADOS",null,null,null,"SERVIÇOS"]
["DATA","COM NOTA","SEM NOTA",null,"DATA","COM NOTA","SEM NOTA",null,"DATA","COM NOTA","SEM NOTA"]
[]
[]
[]
[]
[]
[]
[]
[]
[]
[]
[]
[]
[]
[]
[]
[]
[]
[]
[]
[]
[]
[]
[]
[]
[]
[]
[]
[]
[]
[]
[]
[]
[]
[]
[]
[]
[]
[]
[]
[]
[]
[]
[]
[]
[]
[]
[]
[]
[]
[]
[]
[]
[]
[]
[]
[]
[]
[]
[]
[]
[]
[]
[]
[]
[]
[]
[]
[]
[]
[]
[]
[]
[]
[]
[]
[]
[]
[]
[]
[]
[]
[]
[]
[]
[]
[]
[]
[]
[]
[]
[]
[]
[]
[]
[]
[]
[]
[]
[]
[]
[]
[]
[]
[]
[]
[]
[]
[]
[]
[]
[]
[]
[]
[]
[]
[]
[]
[]
[]
[]
[]
[]
[]
[]
[]
[]
[]
[]
[]
[]
[]
[]
[]
[]
[]
[]
[]
[]
[]
[]
[]
[]
[]
[]
[]
[]
[]
[]
[]
[]
[]
[]
[]
[]
[]
[]
[]
[]
[]
[]
[]
[]
[]
[]
[]
[]
[]
[]
[]
[]
[]
[]
[]
[]
[]
[]
[]
[]
[]
[]
[]
[]
[]
[]
[]
[]
[]
[]
[]
[]
[]
[]
[]
[]
[]
[]
[]
[]
[]
[]
[]
[]
[]
[]
[]
[]
[]
[]
[]
[]
[]
[]
[]
[]
[]
[]
[]
[]
[]
[]
[]
[]
[]
[]
[]
[]
[]
[]
[]
[]
[]
[]
[]
[]
[]
[]
[]
[]
[]
[]
[]
[]
[]
[]
[]
[]
[]
[]
[]
[]
[]
[]
[]
[]
[]
[]
[]
[]
[]
[]
[]
[]
[]
[]
[]
[]
[]
[]
[]
[]
[]
[]
[]
[]
[]
[]
[]
[]
[]
[]
[]
[]
[]
[]
[]
[]
[]
[]
[]
[]
[]
[]
[]
[]
[]
[]
[]
[]
[]
[]
[]
[]
[]
[]
[]
[]
[]
[]
[]
[]
[]
[]
[]
[]
[]
[]
[]
[]
[]
[]
[]
[]
[]
[]
[]
[]
[]
[]
[]
[]
[]
[]
[]
[]
[]
[]
[]
[]
[]
[]
[]
[]
[]
[]
[]
[]
[]
[]
[]
[]
[]
[]
[]
[]
[]
[]
[]
[]
[]
[]
[]
[]
[]
[]
[]
[]
[]
[]
[]
[]
[]
[]
[]
[]
[]
[]
[]
[]
[]
[]
[]
[]
[]
[]
[]
[]
[]
[]
[]
[]
[]
[]
[]
[]
[]
[]
[]
[]
[]
[]
[]
[]
[]
[]
[]
[]
[]
[]
[]
[]
[]
[]
[]
[]
[]
[]
[]
[]
[]
[]
[]
[]
[]
[]
[]
[]
[]
[]
[]
[]
[]
[]
[]
[]
[]
[]
[]
[]
[]
[]
[]
[]
[]
[]
[]
[]
[]
[]
[]
[]
[]
[]
[]
[]
[]
[]
[]
[]
[]
[]
[]
[]
[]
[]
[]
[]
[]
[]
[]
[]
[]
[]
[]
[]
[]
[]
[]
[]
[]
[]
[]
[]
[]
[]
[]
[]
[]
[]
[]
[]
[]
[]
[]
[]
[]
[]
[]
[]
[]
[]
[]
[]
[]
[]
[]
[]
[]
[]
[]
[]
[]
[]
[]
[]
[]
[]
[]
[]
[]
[]
[]
[]
[]
[]
[]
[]
[]
[]
[]
[]
[]
[]
[]
[]
[]
[]
[]
[]
[]
[]
[]
[]
[]
[]
[]
[]
[]
[]
[]
[]
[]
[]
[]
[]
[]
[]
[]
[]
[]
[]
[]
[]
[]
[]
[]
[]
[]
[]
[]
[]
[]
[]
[]
[]
[]
[]
[]
[]
[]
[]
[]
[]
[]
[]
[]
[]
[]
[]
[]
[]
[]
[]
[]
[]
[]
[]
[]
[]
[]
[]
[]
[]
[]
[]
[]
[]
[]
[]
[]
[]
[]
[]
[]
[]
[]
[]
[]
[]
[]
[]
[]
[]
[]
[]
[]
[]
[]
[]
[]
[]
[]
[]
[]
[]
[]
[]
[]
[]
[]
[]
[]
[]
[]
[]
[]
[]
[]
[]
[]
[]
[]
[]
[]
[]
[]
[]
[]
[]
[]
[]
[]
[]
[]
[]
[]
[]
[]
[]
[]
[]
[]
[]
[]
[]
[]
[]
[]
[]
[]
[]
[]
[]
[]
[]
[]
[]
[]
[]
[]
[]
[]
[]
[]
[]
[]
[]
[]
[]
[]
[]
[]
[]
[]
[]
[]
[]
[]
[]
[]
[]
[]
[]
[]
[]
[]
[]
[]
[]
[]
[]
[]
[]
[]
[]
[]
[]
[]
[]
[]
[]
[]
[]
[]
[]
[]
[]
[]
[]
[]
[]
[]
[]
[]
[]
[]
[]
[]
[]
[]
[]
[]
[]
[]
[]
[]
[]
[]
[]
[]
[]
[]
[]
[]
[]
[]
[]
[]
[]
[]
[]
[]
[]
[]
[]
[]
[]
[]
[]
[]
[]
[]
[]
[]
[]
[]
[]
[]
[]
[]
[]
[]
[]
[]
[]
[]
[]
[]
[]
[]
[]
[]
[]
[]
[]
[]
[]
[]
[]
[]
[]
[]
[]
[]
[]
[]
[]
[]
[]
[]
[]
[]
[]
[]
[]
[]
[]
[]
[]
[]
[]
[]
[]
[]
[]
[]
[]
[]
[]
[]
[]
[]
[]
[]
[]
[]
[]
[]
[]
[]
[]
[]
[]
[]
[]
[]
[]
[]
[]
[]
[]
[]
[]
[]
[]
[]
[]
[]
[]
[]
[]
[]
[]
[]
[]
[]
[]
[]
[]
[]
[]
[]
[]
[]
[]
[]
[]
[]
[]
[]
[]
[]
[]
[]
[]
[]
[]
[]
[]
[]
[]
[]
[]
[]
[]
[]
[]
[]
[]
[]
[]
[]
[]
[]
[]
[]
[]
[]
[]
[]
[]
[]
[]
[]
[]
[]
[]
[]
[]
[]
[]
[]
[]
[]
[]
[]
[]
[]
[]
[]
[]
[]
[]
[]
[]
[]
[]
[]
[]
[]
[]
[]
[]
[]
[]
[]
[]
[]
[]
[]
[]
[]
[]
[]
[]
[]
[]
[]
[]
[]
[]
[]
[]
[]
[]
[]
[]
[]
[]
[]
[]
[]
[]
[]
[]
[]
[]
[]
[]
[]
[]
[]
[]
[]
[]
[]
[]
[]
[]
[null,{"$f":"SUM(B3:B1000)","v":0},{"$f":"SUM(C3:C1000)","v":0},null,null,{"$f":"SUM(F3:F1000)","v":0},{"$f":"SUM(G3:G1000)","v":0},null,null,{"$f":"SUM(J3:J1000)","v":0},{"$f":"SUM(K3:K1000)","v":0}]

{"sheet":"2","index":3,"n_rows":1001,"n_cols":11,"rows_kept":1001,"cut":false,"hidden":false,"merged":[[0,0,0,2],[0,4,0,6],[0,8,0,10],[0,12,5,13]]}
["REVENDA DE MERCADORIA (COMERCIO)",null,null,null,"VENDA DE PRODUTOS INDUSTRIALIZADOS",null,null,null,"SERVIÇOS"]
["DATA","COM NOTA","SEM NOTA",null,"DATA","COM NOTA","SEM NOTA",null,"DATA","COM NOTA","SEM NOTA"]
[]
[]
[]
[]
[]
[]
[]
[]
[]
[]
[]
[]
[]
[]
[]
[]
[]
[]
[]
[]
[]
[]
[]
[]
[]
[]
[]
[]
[]
[]
[]
[]
[]
[]
[]
[]
[]
[]
[]
[]
[]
[]
[]
[]
[]
[]
[]
[]
[]
[]
[]
[]
[]
[]
[]
[]
[]
[]
[]
[]
[]
[]
[]
[]
[]
[]
[]
[]
[]
[]
[]
[]
[]
[]
[]
[]
[]
[]
[]
[]
[]
[]
[]
[]
[]
[]
[]
[]
[]
[]
[]
[]
[]
[]
[]
[]
[]
[]
[]
[]
[]
[]
[]
[]
[]
[]
[]
[]
[]
[]
[]
[]
[]
[]
[]
[]
[]
[]
[]
[]
[]
[]
[]
[]
[]
[]
[]
[]
[]
[]
[]
[]
[]
[]
[]
[]
[]
[]
[]
[]
[]
[]
[]
[]
[]
[]
[]
[]
[]
[]
[]
[]
[]
[]
[]
[]
[]
[]
[]
[]
[]
[]
[]
[]
[]
[]
[]
[]
[]
[]
[]
[]
[]
[]
[]
[]
[]
[]
[]
[]
[]
[]
[]
[]
[]
[]
[]
[]
[]
[]
[]
[]
[]
[]
[]
[]
[]
[]
[]
[]
[]
[]
[]
[]
[]
[]
[]
[]
[]
[]
[]
[]
[]
[]
[]
[]
[]
[]
[]
[]
[]
[]
[]
[]
[]
[]
[]
[]
[]
[]
[]
[]
[]
[]
[]
[]
[]
[]
[]
[]
[]
[]
[]
[]
[]
[]
[]
[]
[]
[]
[]
[]
[]
[]
[]
[]
[]
[]
[]
[]
[]
[]
[]
[]
[]
[]
[]
[]
[]
[]
[]
[]
[]
[]
[]
[]
[]
[]
[]
[]
[]
[]
[]
[]
[]
[]
[]
[]
[]
[]
[]
[]
[]
[]
[]
[]
[]
[]
[]
[]
[]
[]
[]
[]
[]
[]
[]
[]
[]
[]
[]
[]
[]
[]
[]
[]
[]
[]
[]
[]
[]
[]
[]
[]
[]
[]
[]
[]
[]
[]
[]
[]
[]
[]
[]
[]
[]
[]
[]
[]
[]
[]
[]
[]
[]
[]
[]
[]
[]
[]
[]
[]
[]
[]
[]
[]
[]
[]
[]
[]
[]
[]
[]
[]
[]
[]
[]
[]
[]
[]
[]
[]
[]
[]
[]
[]
[]
[]
[]
[]
[]
[]
[]
[]
[]
[]
[]
[]
[]
[]
[]
[]
[]
[]
[]
[]
[]
[]
[]
[]
[]
[]
[]
[]
[]
[]
[]
[]
[]
[]
[]
[]
[]
[]
[]
[]
[]
[]
[]
[]
[]
[]
[]
[]
[]
[]
[]
[]
[]
[]
[]
[]
[]
[]
[]
[]
[]
[]
[]
[]
[]
[]
[]
[]
[]
[]
[]
[]
[]
[]
[]
[]
[]
[]
[]
[]
[]
[]
[]
[]
[]
[]
[]
[]
[]
[]
[]
[]
[]
[]
[]
[]
[]
[]
[]
[]
[]
[]
[]
[]
[]
[]
[]
[]
[]
[]
[]
[]
[]
[]
[]
[]
[]
[]
[]
[]
[]
[]
[]
[]
[]
[]
[]
[]
[]
[]
[]
[]
[]
[]
[]
[]
[]
[]
[]
[]
[]
[]
[]
[]
[]
[]
[]
[]
[]
[]
[]
[]
[]
[]
[]
[]
[]
[]
[]
[]
[]
[]
[]
[]
[]
[]
[]
[]
[]
[]
[]
[]
[]
[]
[]
[]
[]
[]
[]
[]
[]
[]
[]
[]
[]
[]
[]
[]
[]
[]
[]
[]
[]
[]
[]
[]
[]
[]
[]
[]
[]
[]
[]
[]
[]
[]
[]
[]
[]
[]
[]
[]
[]
[]
[]
[]
[]
[]
[]
[]
[]
[]
[]
[]
[]
[]
[]
[]
[]
[]
[]
[]
[]
[]
[]
[]
[]
[]
[]
[]
[]
[]
[]
[]
[]
[]
[]
[]
[]
[]
[]
[]
[]
[]
[]
[]
[]
[]
[]
[]
[]
[]
[]
[]
[]
[]
[]
[]
[]
[]
[]
[]
[]
[]
[]
[]
[]
[]
[]
[]
[]
[]
[]
[]
[]
[]
[]
[]
[]
[]
[]
[]
[]
[]
[]
[]
[]
[]
[]
[]
[]
[]
[]
[]
[]
[]
[]
[]
[]
[]
[]
[]
[]
[]
[]
[]
[]
[]
[]
[]
[]
[]
[]
[]
[]
[]
[]
[]
[]
[]
[]
[]
[]
[]
[]
[]
[]
[]
[]
[]
[]
[]
[]
[]
[]
[]
[]
[]
[]
[]
[]
[]
[]
[]
[]
[]
[]
[]
[]
[]
[]
[]
[]
[]
[]
[]
[]
[]
[]
[]
[]
[]
[]
[]
[]
[]
[]
[]
[]
[]
[]
[]
[]
[]
[]
[]
[]
[]
[]
[]
[]
[]
[]
[]
[]
[]
[]
[]
[]
[]
[]
[]
[]
[]
[]
[]
[]
[]
[]
[]
[]
[]
[]
[]
[]
[]
[]
[]
[]
[]
[]
[]
[]
[]
[]
[]
[]
[]
[]
[]
[]
[]
[]
[]
[]
[]
[]
[]
[]
[]
[]
[]
[]
[]
[]
[]
[]
[]
[]
[]
[]
[]
[]
[]
[]
[]
[]
[]
[]
[]
[]
[]
[]
[]
[]
[]
[]
[]
[]
[]
[]
[]
[]
[]
[]
[]
[]
[]
[]
[]
[]
[]
[]
[]
[]
[]
[]
[]
[]
[]
[]
[]
[]
[]
[]
[]
[]
[]
[]
[]
[]
[]
[]
[]
[]
[]
[]
[]
[]
[]
[]
[]
[]
[]
[]
[]
[]
[]
[]
[]
[]
[]
[]
[]
[]
[]
[]
[]
[]
[]
[]
[]
[]
[]
[]
[]
[]
[]
[]
[]
[]
[]
[]
[]
[]
[]
[]
[]
[]
[]
[]
[]
[]
[]
[]
[]
[]
[]
[]
[]
[]
[]
[]
[]
[]
[]
[]
[]
[]
[]
[]
[]
[]
[]
[]
[]
[]
[]
[]
[]
[]
[]
[]
[]
[]
[]
[]
[]
[]
[]
[]
[]
[]
[]
[]
[]
[]
[]
[]
[]
[]
[]
[]
[]
[]
[]
[]
[]
[]
[]
[]
[]
[]
[]
[]
[]
[]
[]
[]
[]
[]
[]
[null,{"$f":"SUM(B3:B1000)","v":0},{"$f":"SUM(C3:C1000)","v":0},null,null,{"$f":"SUM(F3:F1000)","v":0},{"$f":"SUM(G3:G1000)","v":0},null,null,{"$f":"SUM(J3:J1000)","v":0},{"$f":"SUM(K3:K1000)","v":0}]

{"sheet":"3","index":4,"n_rows":1001,"n_cols":11,"rows_kept":1001,"cut":false,"hidden":false,"merged":[[0,0,0,2],[0,4,0,6],[0,8,0,10],[0,12,5,13]]}
["REVENDA DE MERCADORIA (COMERCIO)",null,null,null,"VENDA DE PRODUTOS INDUSTRIALIZADOS",null,null,null,"SERVIÇOS"]
["DATA","COM NOTA","SEM NOTA",null,"DATA","COM NOTA","SEM NOTA",null,"DATA","COM NOTA","SEM NOTA"]
[]
[]
[]
[]
[]
[]
[]
[]
[]
[]
[]
[]
[]
[]
[]
[]
[]
[]
[]
[]
[]
[]
[]
[]
[]
[]
[]
[]
[]
[]
[]
[]
[]
[]
[]
[]
[]
[]
[]
[]
[]
[]
[]
[]
[]
[]
[]
[]
[]
[]
[]
[]
[]
[]
[]
[]
[]
[]
[]
[]
[]
[]
[]
[]
[]
[]
[]
[]
[]
[]
[]
[]
[]
[]
[]
[]
[]
[]
[]
[]
[]
[]
[]
[]
[]
[]
[]
[]
[]
[]
[]
[]
[]
[]
[]
[]
[]
[]
[]
[]
[]
[]
[]
[]
[]
[]
[]
[]
[]
[]
[]
[]
[]
[]
[]
[]
[]
[]
[]
[]
[]
[]
[]
[]
[]
[]
[]
[]
[]
[]
[]
[]
[]
[]
[]
[]
[]
[]
[]
[]
[]
[]
[]
[]
[]
[]
[]
[]
[]
[]
[]
[]
[]
[]
[]
[]
[]
[]
[]
[]
[]
[]
[]
[]
[]
[]
[]
[]
[]
[]
[]
[]
[]
[]
[]
[]
[]
[]
[]
[]
[]
[]
[]
[]
[]
[]
[]
[]
[]
[]
[]
[]
[]
[]
[]
[]
[]
[]
[]
[]
[]
[]
[]
[]
[]
[]
[]
[]
[]
[]
[]
[]
[]
[]
[]
[]
[]
[]
[]
[]
[]
[]
[]
[]
[]
[]
[]
[]
[]
[]
[]
[]
[]
[]
[]
[]
[]
[]
[]
[]
[]
[]
[]
[]
[]
[]
[]
[]
[]
[]
[]
[]
[]
[]
[]
[]
[]
[]
[]
[]
[]
[]
[]
[]
[]
[]
[]
[]
[]
[]
[]
[]
[]
[]
[]
[]
[]
[]
[]
[]
[]
[]
[]
[]
[]
[]
[]
[]
[]
[]
[]
[]
[]
[]
[]
[]
[]
[]
[]
[]
[]
[]
[]
[]
[]
[]
[]
[]
[]
[]
[]
[]
[]
[]
[]
[]
[]
[]
[]
[]
[]
[]
[]
[]
[]
[]
[]
[]
[]
[]
[]
[]
[]
[]
[]
[]
[]
[]
[]
[]
[]
[]
[]
[]
[]
[]
[]
[]
[]
[]
[]
[]
[]
[]
[]
[]
[]
[]
[]
[]
[]
[]
[]
[]
[]
[]
[]
[]
[]
[]
[]
[]
[]
[]
[]
[]
[]
[]
[]
[]
[]
[]
[]
[]
[]
[]
[]
[]
[]
[]
[]
[]
[]
[]
[]
[]
[]
[]
[]
[]
[]
[]
[]
[]
[]
[]
[]
[]
[]
[]
[]
[]
[]
[]
[]
[]
[]
[]
[]
[]
[]
[]
[]
[]
[]
[]
[]
[]
[]
[]
[]
[]
[]
[]
[]
[]
[]
[]
[]
[]
[]
[]
[]
[]
[]
[]
[]
[]
[]
[]
[]
[]
[]
[]
[]
[]
[]
[]
[]
[]
[]
[]
[]
[]
[]
[]
[]
[]
[]
[]
[]
[]
[]
[]
[]
[]
[]
[]
[]
[]
[]
[]
[]
[]
[]
[]
[]
[]
[]
[]
[]
[]
[]
[]
[]
[]
[]
[]
[]
[]
[]
[]
[]
[]
[]
[]
[]
[]
[]
[]
[]
[]
[]
[]
[]
[]
[]
[]
[]
[]
[]
[]
[]
[]
[]
[]
[]
[]
[]
[]
[]
[]
[]
[]
[]
[]
[]
[]
[]
[]
[]
[]
[]
[]
[]
[]
[]
[]
[]
[]
[]
[]
[]
[]
[]
[]
[]
[]
[]
[]
[]
[]
[]
[]
[]
[]
[]
[]
[]
[]
[]
[]
[]
[]
[]
[]
[]
[]
[]
[]
[]
[]
[]
[]
[]
[]
[]
[]
[]
[]
[]
[]
[]
[]
[]
[]
[]
[]
[]
[]
[]
[]
[]
[]
[]
[]
[]
[]
[]
[]
[]
[]
[]
[]
[]
[]
[]
[]
[]
[]
[]
[]
[]
[]
[]
[]
[]
[]
[]
[]
[]
[]
[]
[]
[]
[]
[]
[]
[]
[]
[]
[]
[]
[]
[]
[]
[]
[]
[]
[]
[]
[]
[]
[]
[]
[]
[]
[]
[]
[]
[]
[]
[]
[]
[]
[]
[]
[]
[]
[]
[]
[]
[]
[]
[]
[]
[]
[]
[]
[]
[]
[]
[]
[]
[]
[]
[]
[]
[]
[]
[]
[]
[]
[]
[]
[]
[]
[]
[]
[]
[]
[]
[]
[]
[]
[]
[]
[]
[]
[]
[]
[]
[]
[]
[]
[]
[]
[]
[]
[]
[]
[]
[]
[]
[]
[]
[]
[]
[]
[]
[]
[]
[]
[]
[]
[]
[]
[]
[]
[]
[]
[]
[]
[]
[]
[]
[]
[]
[]
[]
[]
[]
[]
[]
[]
[]
[]
[]
[]
[]
[]
[]
[]
[]
[]
[]
[]
[]
[]
[]
[]
[]
[]
[]
[]
[]
[]
[]
[]
[]
[]
[]
[]
[]
[]
[]
[]
[]
[]
[]
[]
[]
[]
[]
[]
[]
[]
[]
[]
[]
[]
[]
[]
[]
[]
[]
[]
[]
[]
[]
[]
[]
[]
[]
[]
[]
[]
[]
[]
[]
[]
[]
[]
[]
[]
[]
[]
[]
[]
[]
[]
[]
[]
[]
[]
[]
[]
[]
[]
[]
[]
[]
[]
[]
[]
[]
[]
[]
[]
[]
[]
[]
[]
[]
[]
[]
[]
[]
[]
[]
[]
[]
[]
[]
[]
[]
[]
[]
[]
[]
[]
[]
[]
[]
[]
[]
[]
[]
[]
[]
[]
[]
[]
[]
[]
[]
[]
[]
[]
[]
[]
[]
[]
[]
[]
[]
[]
[]
[]
[]
[]
[]
[]
[]
[]
[]
[]
[]
[]
[]
[]
[]
[]
[]
[]
[]
[]
[]
[]
[]
[]
[]
[]
[]
[]
[]
[]
[]
[]
[]
[]
[]
[]
[]
[]
[]
[]
[]
[]
[]
[]
[]
[]
[]
[]
[]
[]
[]
[]
[]
[]
[]
[]
[]
[]
[]
[]
[]
[]
[]
[]
[]
[]
[]
[]
[]
[]
[]
[]
[]
[]
[]
[]
[]
[]
[]
[]
[]
[]
[]
[]
[]
[]
[]
[]
[]
[]
[]
[]
[]
[]
[]
[]
[]
[]
[]
[]
[]
[null,{"$f":"SUM(B3:B1000)","v":0},{"$f":"SUM(C3:C1000)","v":0},null,null,{"$f":"SUM(F3:F1000)","v":0},{"$f":"SUM(G3:G1000)","v":0},null,null,{"$f":"SUM(J3:J1000)","v":0},{"$f":"SUM(K3:K1000)","v":0}]

{"sheet":"4","index":5,"n_rows":1001,"n_cols":11,"rows_kept":1001,"cut":false,"hidden":false,"merged":[[0,0,0,2],[0,4,0,6],[0,8,0,10],[0,12,5,13]]}
["REVENDA DE MERCADORIA (COMERCIO)",null,null,null,"VENDA DE PRODUTOS INDUSTRIALIZADOS",null,null,null,"SERVIÇOS"]
["DATA","COM NOTA","SEM NOTA",null,"DATA","COM NOTA","SEM NOTA",null,"DATA","COM NOTA","SEM NOTA"]
[]
[]
[]
[]
[]
[]
[]
[]
[]
[]
[]
[]
[]
[]
[]
[]
[]
[]
[]
[]
[]
[]
[]
[]
[]
[]
[]
[]
[]
[]
[]
[]
[]
[]
[]
[]
[]
[]
[]
[]
[]
[]
[]
[]
[]
[]
[]
[]
[]
[]
[]
[]
[]
[]
[]
[]
[]
[]
[]
[]
[]
[]
[]
[]
[]
[]
[]
[]
[]
[]
[]
[]
[]
[]
[]
[]
[]
[]
[]
[]
[]
[]
[]
[]
[]
[]
[]
[]
[]
[]
[]
[]
[]
[]
[]
[]
[]
[]
[]
[]
[]
[]
[]
[]
[]
[]
[]
[]
[]
[]
[]
[]
[]
[]
[]
[]
[]
[]
[]
[]
[]
[]
[]
[]
[]
[]
[]
[]
[]
[]
[]
[]
[]
[]
[]
[]
[]
[]
[]
[]
[]
[]
[]
[]
[]
[]
[]
[]
[]
[]
[]
[]
[]
[]
[]
[]
[]
[]
[]
[]
[]
[]
[]
[]
[]
[]
[]
[]
[]
[]
[]
[]
[]
[]
[]
[]
[]
[]
[]
[]
[]
[]
[]
[]
[]
[]
[]
[]
[]
[]
[]
[]
[]
[]
[]
[]
[]
[]
[]
[]
[]
[]
[]
[]
[]
[]
[]
[]
[]
[]
[]
[]
[]
[]
[]
[]
[]
[]
[]
[]
[]
[]
[]
[]
[]
[]
[]
[]
[]
[]
[]
[]
[]
[]
[]
[]
[]
[]
[]
[]
[]
[]
[]
[]
[]
[]
[]
[]
[]
[]
[]
[]
[]
[]
[]
[]
[]
[]
[]
[]
[]
[]
[]
[]
[]
[]
[]
[]
[]
[]
[]
[]
[]
[]
[]
[]
[]
[]
[]
[]
[]
[]
[]
[]
[]
[]
[]
[]
[]
[]
[]
[]
[]
[]
[]
[]
[]
[]
[]
[]
[]
[]
[]
[]
[]
[]
[]
[]
[]
[]
[]
[]
[]
[]
[]
[]
[]
[]
[]
[]
[]
[]
[]
[]
[]
[]
[]
[]
[]
[]
[]
[]
[]
[]
[]
[]
[]
[]
[]
[]
[]
[]
[]
[]
[]
[]
[]
[]
[]
[]
[]
[]
[]
[]
[]
[]
[]
[]
[]
[]
[]
[]
[]
[]
[]
[]
[]
[]
[]
[]
[]
[]
[]
[]
[]
[]
[]
[]
[]
[]
[]
[]
[]
[]
[]
[]
[]
[]
[]
[]
[]
[]
[]
[]
[]
[]
[]
[]
[]
[]
[]
[]
[]
[]
[]
[]
[]
[]
[]
[]
[]
[]
[]
[]
[]
[]
[]
[]
[]
[]
[]
[]
[]
[]
[]
[]
[]
[]
[]
[]
[]
[]
[]
[]
[]
[]
[]
[]
[]
[]
[]
[]
[]
[]
[]
[]
[]
[]
[]
[]
[]
[]
[]
[]
[]
[]
[]
[]
[]
[]
[]
[]
[]
[]
[]
[]
[]
[]
[]
[]
[]
[]
[]
[]
[]
[]
[]
[]
[]
[]
[]
[]
[]
[]
[]
[]
[]
[]
[]
[]
[]
[]
[]
[]
[]
[]
[]
[]
[]
[]
[]
[]
[]
[]
[]
[]
[]
[]
[]
[]
[]
[]
[]
[]
[]
[]
[]
[]
[]
[]
[]
[]
[]
[]
[]
[]
[]
[]
[]
[]
[]
[]
[]
[]
[]
[]
[]
[]
[]
[]
[]
[]
[]
[]
[]
[]
[]
[]
[]
[]
[]
[]
[]
[]
[]
[]
[]
[]
[]
[]
[]
[]
[]
[]
[]
[]
[]
[]
[]
[]
[]
[]
[]
[]
[]
[]
[]
[]
[]
[]
[]
[]
[]
[]
[]
[]
[]
[]
[]
[]
[]
[]
[]
[]
[]
[]
[]
[]
[]
[]
[]
[]
[]
[]
[]
[]
[]
[]
[]
[]
[]
[]
[]
[]
[]
[]
[]
[]
[]
[]
[]
[]
[]
[]
[]
[]
[]
[]
[]
[]
[]
[]
[]
[]
[]
[]
[]
[]
[]
[]
[]
[]
[]
[]
[]
[]
[]
[]
[]
[]
[]
[]
[]
[]
[]
[]
[]
[]
[]
[]
[]
[]
[]
[]
[]
[]
[]
[]
[]
[]
[]
[]
[]
[]
[]
[]
[]
[]
[]
[]
[]
[]
[]
[]
[]
[]
[]
[]
[]
[]
[]
[]
[]
[]
[]
[]
[]
[]
[]
[]
[]
[]
[]
[]
[]
[]
[]
[]
[]
[]
[]
[]
[]
[]
[]
[]
[]
[]
[]
[]
[]
[]
[]
[]
[]
[]
[]
[]
[]
[]
[]
[]
[]
[]
[]
[]
[]
[]
[]
[]
[]
[]
[]
[]
[]
[]
[]
[]
[]
[]
[]
[]
[]
[]
[]
[]
[]
[]
[]
[]
[]
[]
[]
[]
[]
[]
[]
[]
[]
[]
[]
[]
[]
[]
[]
[]
[]
[]
[]
[]
[]
[]
[]
[]
[]
[]
[]
[]
[]
[]
[]
[]
[]
[]
[]
[]
[]
[]
[]
[]
[]
[]
[]
[]
[]
[]
[]
[]
[]
[]
[]
[]
[]
[]
[]
[]
[]
[]
[]
[]
[]
[]
[]
[]
[]
[]
[]
[]
[]
[]
[]
[]
[]
[]
[]
[]
[]
[]
[]
[]
[]
[]
[]
[]
[]
[]
[]
[]
[]
[]
[]
[]
[]
[]
[]
[]
[]
[]
[]
[]
[]
[]
[]
[]
[]
[]
[]
[]
[]
[]
[]
[]
[]
[]
[]
[]
[]
[]
[]
[]
[]
[]
[]
[]
[]
[]
[]
[]
[]
[]
[]
[]
[]
[]
[]
[]
[]
[]
[]
[]
[]
[]
[]
[]
[]
[]
[]
[]
[]
[]
[]
[]
[]
[]
[]
[]
[]
[]
[]
[]
[]
[]
[]
[]
[]
[]
[]
[]
[]
[]
[]
[]
[]
[]
[]
[]
[]
[]
[]
[]
[]
[]
[]
[]
[]
[]
[]
[]
[]
[]
[]
[]
[]
[]
[]
[]
[]
[]
[]
[]
[]
[]
[]
[]
[]
[]
[]
[]
[]
[]
[]
[]
[]
[]
[]
[]
[]
[]
[]
[]
[]
[]
[]
[]
[]
[]
[]
[]
[]
[]
[]
[]
[]
[]
[]
[]
[]
[]
[null,{"$f":"SUM(B3:B1000)","v":0},{"$f":"SUM(C3:C1000)","v":0},null,null,{"$f":"SUM(F3:F1000)","v":0},{"$f":"SUM(G3:G1000)","v":0},null,null,{"$f":"SUM(J3:J1000)","v":0},{"$f":"SUM(K3:K1000)","v":0}]

{"sheet":"5","index":6,"n_rows":1001,"n_cols":11,"rows_kept":1001,"cut":false,"hidden":false,"merged":[[0,0,0,2],[0,4,0,6],[0,8,0,10],[0,12,5,13]]}
["REVENDA DE MERCADORIA (COMERCIO)",null,null,null,"VENDA DE PRODUTOS INDUSTRIALIZADOS",null,null,null,"SERVIÇOS"]
["DATA","COM NOTA","SEM NOTA",null,"DATA","COM NOTA","SEM NOTA",null,"DATA","COM NOTA","SEM NOTA"]
[]
[]
[]
[]
[]
[]
[]
[]
[]
[]
[]
[]
[]
[]
[]
[]
[]
[]
[]
[]
[]
[]
[]
[]
[]
[]
[]
[]
[]
[]
[]
[]
[]
[]
[]
[]
[]
[]
[]
[]
[]
[]
[]
[]
[]
[]
[]
[]
[]
[]
[]
[]
[]
[]
[]
[]
[]
[]
[]
[]
[]
[]
[]
[]
[]
[]
[]
[]
[]
[]
[]
[]
[]
[]
[]
[]
[]
[]
[]
[]
[]
[]
[]
[]
[]
[]
[]
[]
[]
[]
[]
[]
[]
[]
[]
[]
[]
[]
[]
[]
[]
[]
[]
[]
[]
[]
[]
[]
[]
[]
[]
[]
[]
[]
[]
[]
[]
[]
[]
[]
[]
[]
[]
[]
[]
[]
[]
[]
[]
[]
[]
[]
[]
[]
[]
[]
[]
[]
[]
[]
[]
[]
[]
[]
[]
[]
[]
[]
[]
[]
[]
[]
[]
[]
[]
[]
[]
[]
[]
[]
[]
[]
[]
[]
[]
[]
[]
[]
[]
[]
[]
[]
[]
[]
[]
[]
[]
[]
[]
[]
[]
[]
[]
[]
[]
[]
[]
[]
[]
[]
[]
[]
[]
[]
[]
[]
[]
[]
[]
[]
[]
[]
[]
[]
[]
[]
[]
[]
[]
[]
[]
[]
[]
[]
[]
[]
[]
[]
[]
[]
[]
[]
[]
[]
[]
[]
[]
[]
[]
[]
[]
[]
[]
[]
[]
[]
[]
[]
[]
[]
[]
[]
[]
[]
[]
[]
[]
[]
[]
[]
[]
[]
[]
[]
[]
[]
[]
[]
[]
[]
[]
[]
[]
[]
[]
[]
[]
[]
[]
[]
[]
[]
[]
[]
[]
[]
[]
[]
[]
[]
[]
[]
[]
[]
[]
[]
[]
[]
[]
[]
[]
[]
[]
[]
[]
[]
[]
[]
[]
[]
[]
[]
[]
[]
[]
[]
[]
[]
[]
[]
[]
[]
[]
[]
[]
[]
[]
[]
[]
[]
[]
[]
[]
[]
[]
[]
[]
[]
[]
[]
[]
[]
[]
[]
[]
[]
[]
[]
[]
[]
[]
[]
[]
[]
[]
[]
[]
[]
[]
[]
[]
[]
[]
[]
[]
[]
[]
[]
[]
[]
[]
[]
[]
[]
[]
[]
[]
[]
[]
[]
[]
[]
[]
[]
[]
[]
[]
[]
[]
[]
[]
[]
[]
[]
[]
[]
[]
[]
[]
[]
[]
[]
[]
[]
[]
[]
[]
[]
[]
[]
[]
[]
[]
[]
[]
[]
[]
[]
[]
[]
[]
[]
[]
[]
[]
[]
[]
[]
[]
[]
[]
[]
[]
[]
[]
[]
[]
[]
[]
[]
[]
[]
[]
[]
[]
[]
[]
[]
[]
[]
[]
[]
[]
[]
[]
[]
[]
[]
[]
[]
[]
[]
[]
[]
[]
[]
[]
[]
[]
[]
[]
[]
[]
[]
[]
[]
[]
[]
[]
[]
[]
[]
[]
[]
[]
[]
[]
[]
[]
[]
[]
[]
[]
[]
[]
[]
[]
[]
[]
[]
[]
[]
[]
[]
[]
[]
[]
[]
[]
[]
[]
[]
[]
[]
[]
[]
[]
[]
[]
[]
[]
[]
[]
[]
[]
[]
[]
[]
[]
[]
[]
[]
[]
[]
[]
[]
[]
[]
[]
[]
[]
[]
[]
[]
[]
[]
[]
[]
[]
[]
[]
[]
[]
[]
[]
[]
[]
[]
[]
[]
[]
[]
[]
[]
[]
[]
[]
[]
[]
[]
[]
[]
[]
[]
[]
[]
[]
[]
[]
[]
[]
[]
[]
[]
[]
[]
[]
[]
[]
[]
[]
[]
[]
[]
[]
[]
[]
[]
[]
[]
[]
[]
[]
[]
[]
[]
[]
[]
[]
[]
[]
[]
[]
[]
[]
[]
[]
[]
[]
[]
[]
[]
[]
[]
[]
[]
[]
[]
[]
[]
[]
[]
[]
[]
[]
[]
[]
[]
[]
[]
[]
[]
[]
[]
[]
[]
[]
[]
[]
[]
[]
[]
[]
[]
[]
[]
[]
[]
[]
[]
[]
[]
[]
[]
[]
[]
[]
[]
[]
[]
[]
[]
[]
[]
[]
[]
[]
[]
[]
[]
[]
[]
[]
[]
[]
[]
[]
[]
[]
[]
[]
[]
[]
[]
[]
[]
[]
[]
[]
[]
[]
[]
[]
[]
[]
[]
[]
[]
[]
[]
[]
[]
[]
[]
[]
[]
[]
[]
[]
[]
[]
[]
[]
[]
[]
[]
[]
[]
[]
[]
[]
[]
[]
[]
[]
[]
[]
[]
[]
[]
[]
[]
[]
[]
[]
[]
[]
[]
[]
[]
[]
[]
[]
[]
[]
[]
[]
[]
[]
[]
[]
[]
[]
[]
[]
[]
[]
[]
[]
[]
[]
[]
[]
[]
[]
[]
[]
[]
[]
[]
[]
[]
[]
[]
[]
[]
[]
[]
[]
[]
[]
[]
[]
[]
[]
[]
[]
[]
[]
[]
[]
[]
[]
[]
[]
[]
[]
[]
[]
[]
[]
[]
[]
[]
[]
[]
[]
[]
[]
[]
[]
[]
[]
[]
[]
[]
[]
[]
[]
[]
[]
[]
[]
[]
[]
[]
[]
[]
[]
[]
[]
[]
[]
[]
[]
[]
[]
[]
[]
[]
[]
[]
[]
[]
[]
[]
[]
[]
[]
[]
[]
[]
[]
[]
[]
[]
[]
[]
[]
[]
[]
[]
[]
[]
[]
[]
[]
[]
[]
[]
[]
[]
[]
[]
[]
[]
[]
[]
[]
[]
[]
[]
[]
[]
[]
[]
[]
[]
[]
[]
[]
[]
[]
[]
[]
[]
[]
[]
[]
[]
[]
[]
[]
[]
[]
[]
[]
[]
[]
[]
[]
[]
[]
[]
[]
[]
[]
[]
[]
[]
[]
[]
[]
[]
[]
[]
[]
[]
[]
[]
[]
[]
[]
[]
[]
[]
[]
[]
[]
[]
[]
[]
[]
[]
[]
[]
[]
[]
[]
[]
[]
[]
[]
[]
[]
[]
[]
[]
[]
[]
[]
[]
[]
[]
[]
[]
[]
[]
[]
[]
[]
[]
[]
[]
[]
[]
[]
[]
[]
[]
[]
[]
[]
[]
[]
[]
[]
[]
[]
[]
[]
[]
[]
[]
[]
[]
[]
[]
[null,{"$f":"SUM(B3:B1000)","v":0},{"$f":"SUM(C3:C1000)","v":0},null,null,{"$f":"SUM(F3:F1000)","v":0},{"$f":"SUM(G3:G1000)","v":0},null,null,{"$f":"SUM(J3:J1000)","v":0},{"$f":"SUM(K3:K1000)","v":0}]

{"sheet":"6","index":7,"n_rows":1001,"n_cols":11,"rows_kept":1001,"cut":false,"hidden":false,"merged":[[0,0,0,2],[0,4,0,6],[0,8,0,10],[0,12,5,13]]}
["REVENDA DE MERCADORIA (COMERCIO)",null,null,null,"VENDA DE PRODUTOS INDUSTRIALIZADOS",null,null,null,"SERVIÇOS"]
["DATA","COM NOTA","SEM NOTA",null,"DATA","COM NOTA","SEM NOTA",null,"DATA","COM NOTA","SEM NOTA"]
[]
[]
[]
[]
[]
[]
[]
[]
[]
[]
[]
[]
[]
[]
[]
[]
[]
[]
[]
[]
[]
[]
[]
[]
[]
[]
[]
[]
[]
[]
[]
[]
[]
[]
[]
[]
[]
[]
[]
[]
[]
[]
[]
[]
[]
[]
[]
[]
[]
[]
[]
[]
[]
[]
[]
[]
[]
[]
[]
[]
[]
[]
[]
[]
[]
[]
[]
[]
[]
[]
[]
[]
[]
[]
[]
[]
[]
[]
[]
[]
[]
[]
[]
[]
[]
[]
[]
[]
[]
[]
[]
[]
[]
[]
[]
[]
[]
[]
[]
[]
[]
[]
[]
[]
[]
[]
[]
[]
[]
[]
[]
[]
[]
[]
[]
[]
[]
[]
[]
[]
[]
[]
[]
[]
[]
[]
[]
[]
[]
[]
[]
[]
[]
[]
[]
[]
[]
[]
[]
[]
[]
[]
[]
[]
[]
[]
[]
[]
[]
[]
[]
[]
[]
[]
[]
[]
[]
[]
[]
[]
[]
[]
[]
[]
[]
[]
[]
[]
[]
[]
[]
[]
[]
[]
[]
[]
[]
[]
[]
[]
[]
[]
[]
[]
[]
[]
[]
[]
[]
[]
[]
[]
[]
[]
[]
[]
[]
[]
[]
[]
[]
[]
[]
[]
[]
[]
[]
[]
[]
[]
[]
[]
[]
[]
[]
[]
[]
[]
[]
[]
[]
[]
[]
[]
[]
[]
[]
[]
[]
[]
[]
[]
[]
[]
[]
[]
[]
[]
[]
[]
[]
[]
[]
[]
[]
[]
[]
[]
[]
[]
[]
[]
[]
[]
[]
[]
[]
[]
[]
[]
[]
[]
[]
[]
[]
[]
[]
[]
[]
[]
[]
[]
[]
[]
[]
[]
[]
[]
[]
[]
[]
[]
[]
[]
[]
[]
[]
[]
[]
[]
[]
[]
[]
[]
[]
[]
[]
[]
[]
[]
[]
[]
[]
[]
[]
[]
[]
[]
[]
[]
[]
[]
[]
[]
[]
[]
[]
[]
[]
[]
[]
[]
[]
[]
[]
[]
[]
[]
[]
[]
[]
[]
[]
[]
[]
[]
[]
[]
[]
[]
[]
[]
[]
[]
[]
[]
[]
[]
[]
[]
[]
[]
[]
[]
[]
[]
[]
[]
[]
[]
[]
[]
[]
[]
[]
[]
[]
[]
[]
[]
[]
[]
[]
[]
[]
[]
[]
[]
[]
[]
[]
[]
[]
[]
[]
[]
[]
[]
[]
[]
[]
[]
[]
[]
[]
[]
[]
[]
[]
[]
[]
[]
[]
[]
[]
[]
[]
[]
[]
[]
[]
[]
[]
[]
[]
[]
[]
[]
[]
[]
[]
[]
[]
[]
[]
[]
[]
[]
[]
[]
[]
[]
[]
[]
[]
[]
[]
[]
[]
[]
[]
[]
[]
[]
[]
[]
[]
[]
[]
[]
[]
[]
[]
[]
[]
[]
[]
[]
[]
[]
[]
[]
[]
[]
[]
[]
[]
[]
[]
[]
[]
[]
[]
[]
[]
[]
[]
[]
[]
[]
[]
[]
[]
[]
[]
[]
[]
[]
[]
[]
[]
[]
[]
[]
[]
[]
[]
[]
[]
[]
[]
[]
[]
[]
[]
[]
[]
[]
[]
[]
[]
[]
[]
[]
[]
[]
[]
[]
[]
[]
[]
[]
[]
[]
[]
[]
[]
[]
[]
[]
[]
[]
[]
[]
[]
[]
[]
[]
[]
[]
[]
[]
[]
[]
[]
[]
[]
[]
[]
[]
[]
[]
[]
[]
[]
[]
[]
[]
[]
[]
[]
[]
[]
[]
[]
[]
[]
[]
[]
[]
[]
[]
[]
[]
[]
[]
[]
[]
[]
[]
[]
[]
[]
[]
[]
[]
[]
[]
[]
[]
[]
[]
[]
[]
[]
[]
[]
[]
[]
[]
[]
[]
[]
[]
[]
[]
[]
[]
[]
[]
[]
[]
[]
[]
[]
[]
[]
[]
[]
[]
[]
[]
[]
[]
[]
[]
[]
[]
[]
[]
[]
[]
[]
[]
[]
[]
[]
[]
[]
[]
[]
[]
[]
[]
[]
[]
[]
[]
[]
[]
[]
[]
[]
[]
[]
[]
[]
[]
[]
[]
[]
[]
[]
[]
[]
[]
[]
[]
[]
[]
[]
[]
[]
[]
[]
[]
[]
[]
[]
[]
[]
[]
[]
[]
[]
[]
[]
[]
[]
[]
[]
[]
[]
[]
[]
[]
[]
[]
[]
[]
[]
[]
[]
[]
[]
[]
[]
[]
[]
[]
[]
[]
[]
[]
[]
[]
[]
[]
[]
[]
[]
[]
[]
[]
[]
[]
[]
[]
[]
[]
[]
[]
[]
[]
[]
[]
[]
[]
[]
[]
[]
[]
[]
[]
[]
[]
[]
[]
[]
[]
[]
[]
[]
[]
[]
[]
[]
[]
[]
[]
[]
[]
[]
[]
[]
[]
[]
[]
[]
[]
[]
[]
[]
[]
[]
[]
[]
[]
[]
[]
[]
[]
[]
[]
[]
[]
[]
[]
[]
[]
[]
[]
[]
[]
[]
[]
[]
[]
[]
[]
[]
[]
[]
[]
[]
[]
[]
[]
[]
[]
[]
[]
[]
[]
[]
[]
[]
[]
[]
[]
[]
[]
[]
[]
[]
[]
[]
[]
[]
[]
[]
[]
[]
[]
[]
[]
[]
[]
[]
[]
[]
[]
[]
[]
[]
[]
[]
[]
[]
[]
[]
[]
[]
[]
[]
[]
[]
[]
[]
[]
[]
[]
[]
[]
[]
[]
[]
[]
[]
[]
[]
[]
[]
[]
[]
[]
[]
[]
[]
[]
[]
[]
[]
[]
[]
[]
[]
[]
[]
[]
[]
[]
[]
[]
[]
[]
[]
[]
[]
[]
[]
[]
[]
[]
[]
[]
[]
[]
[]
[]
[]
[]
[]
[]
[]
[]
[]
[]
[]
[]
[]
[]
[]
[]
[]
[]
[]
[]
[]
[]
[]
[]
[]
[]
[]
[]
[]
[]
[]
[]
[]
[]
[]
[]
[]
[]
[]
[]
[]
[]
[]
[]
[]
[]
[]
[]
[]
[]
[]
[]
[]
[]
[]
[]
[]
[]
[]
[]
[]
[]
[]
[]
[]
[]
[]
[]
[]
[]
[]
[]
[]
[]
[]
[]
[]
[]
[]
[]
[]
[]
[]
[]
[]
[]
[]
[]
[]
[]
[null,{"$f":"SUM(B3:B1000)","v":0},{"$f":"SUM(C3:C1000)","v":0},null,null,{"$f":"SUM(F3:F1000)","v":0},{"$f":"SUM(G3:G1000)","v":0},null,null,{"$f":"SUM(J3:J1000)","v":0},{"$f":"SUM(K3:K1000)","v":0}]

{"sheet":"7","index":8,"n_rows":1001,"n_cols":11,"rows_kept":1001,"cut":false,"hidden":false,"merged":[[0,0,0,2],[0,4,0,6],[0,8,0,10],[0,12,5,13]]}
["REVENDA DE MERCADORIA (COMERCIO)",null,null,null,"VENDA DE PRODUTOS INDUSTRIALIZADOS",null,null,null,"SERVIÇOS"]
["DATA","COM NOTA","SEM NOTA",null,"DATA","COM NOTA","SEM NOTA",null,"DATA","COM NOTA","SEM NOTA"]
[]
[]
[]
[]
[]
[]
[]
[]
[]
[]
[]
[]
[]
[]
[]
[]
[]
[]
[]
[]
[]
[]
[]
[]
[]
[]
[]
[]
[]
[]
[]
[]
[]
[]
[]
[]
[]
[]
[]
[]
[]
[]
[]
[]
[]
[]
[]
[]
[]
[]
[]
[]
[]
[]
[]
[]
[]
[]
[]
[]
[]
[]
[]
[]
[]
[]
[]
[]
[]
[]
[]
[]
[]
[]
[]
[]
[]
[]
[]
[]
[]
[]
[]
[]
[]
[]
[]
[]
[]
[]
[]
[]
[]
[]
[]
[]
[]
[]
[]
[]
[]
[]
[]
[]
[]
[]
[]
[]
[]
[]
[]
[]
[]
[]
[]
[]
[]
[]
[]
[]
[]
[]
[]
[]
[]
[]
[]
[]
[]
[]
[]
[]
[]
[]
[]
[]
[]
[]
[]
[]
[]
[]
[]
[]
[]
[]
[]
[]
[]
[]
[]
[]
[]
[]
[]
[]
[]
[]
[]
[]
[]
[]
[]
[]
[]
[]
[]
[]
[]
[]
[]
[]
[]
[]
[]
[]
[]
[]
[]
[]
[]
[]
[]
[]
[]
[]
[]
[]
[]
[]
[]
[]
[]
[]
[]
[]
[]
[]
[]
[]
[]
[]
[]
[]
[]
[]
[]
[]
[]
[]
[]
[]
[]
[]
[]
[]
[]
[]
[]
[]
[]
[]
[]
[]
[]
[]
[]
[]
[]
[]
[]
[]
[]
[]
[]
[]
[]
[]
[]
[]
[]
[]
[]
[]
[]
[]
[]
[]
[]
[]
[]
[]
[]
[]
[]
[]
[]
[]
[]
[]
[]
[]
[]
[]
[]
[]
[]
[]
[]
[]
[]
[]
[]
[]
[]
[]
[]
[]
[]
[]
[]
[]
[]
[]
[]
[]
[]
[]
[]
[]
[]
[]
[]
[]
[]
[]
[]
[]
[]
[]
[]
[]
[]
[]
[]
[]
[]
[]
[]
[]
[]
[]
[]
[]
[]
[]
[]
[]
[]
[]
[]
[]
[]
[]
[]
[]
[]
[]
[]
[]
[]
[]
[]
[]
[]
[]
[]
[]
[]
[]
[]
[]
[]
[]
[]
[]
[]
[]
[]
[]
[]
[]
[]
[]
[]
[]
[]
[]
[]
[]
[]
[]
[]
[]
[]
[]
[]
[]
[]
[]
[]
[]
[]
[]
[]
[]
[]
[]
[]
[]
[]
[]
[]
[]
[]
[]
[]
[]
[]
[]
[]
[]
[]
[]
[]
[]
[]
[]
[]
[]
[]
[]
[]
[]
[]
[]
[]
[]
[]
[]
[]
[]
[]
[]
[]
[]
[]
[]
[]
[]
[]
[]
[]
[]
[]
[]
[]
[]
[]
[]
[]
[]
[]
[]
[]
[]
[]
[]
[]
[]
[]
[]
[]
[]
[]
[]
[]
[]
[]
[]
[]
[]
[]
[]
[]
[]
[]
[]
[]
[]
[]
[]
[]
[]
[]
[]
[]
[]
[]
[]
[]
[]
[]
[]
[]
[]
[]
[]
[]
[]
[]
[]
[]
[]
[]
[]
[]
[]
[]
[]
[]
[]
[]
[]
[]
[]
[]
[]
[]
[]
[]
[]
[]
[]
[]
[]
[]
[]
[]
[]
[]
[]
[]
[]
[]
[]
[]
[]
[]
[]
[]
[]
[]
[]
[]
[]
[]
[]
[]
[]
[]
[]
[]
[]
[]
[]
[]
[]
[]
[]
[]
[]
[]
[]
[]
[]
[]
[]
[]
[]
[]
[]
[]
[]
[]
[]
[]
[]
[]
[]
[]
[]
[]
[]
[]
[]
[]
[]
[]
[]
[]
[]
[]
[]
[]
[]
[]
[]
[]
[]
[]
[]
[]
[]
[]
[]
[]
[]
[]
[]
[]
[]
[]
[]
[]
[]
[]
[]
[]
[]
[]
[]
[]
[]
[]
[]
[]
[]
[]
[]
[]
[]
[]
[]
[]
[]
[]
[]
[]
[]
[]
[]
[]
[]
[]
[]
[]
[]
[]
[]
[]
[]
[]
[]
[]
[]
[]
[]
[]
[]
[]
[]
[]
[]
[]
[]
[]
[]
[]
[]
[]
[]
[]
[]
[]
[]
[]
[]
[]
[]
[]
[]
[]
[]
[]
[]
[]
[]
[]
[]
[]
[]
[]
[]
[]
[]
[]
[]
[]
[]
[]
[]
[]
[]
[]
[]
[]
[]
[]
[]
[]
[]
[]
[]
[]
[]
[]
[]
[]
[]
[]
[]
[]
[]
[]
[]
[]
[]
[]
[]
[]
[]
[]
[]
[]
[]
[]
[]
[]
[]
[]
[]
[]
[]
[]
[]
[]
[]
[]
[]
[]
[]
[]
[]
[]
[]
[]
[]
[]
[]
[]
[]
[]
[]
[]
[]
[]
[]
[]
[]
[]
[]
[]
[]
[]
[]
[]
[]
[]
[]
[]
[]
[]
[]
[]
[]
[]
[]
[]
[]
[]
[]
[]
[]
[]
[]
[]
[]
[]
[]
[]
[]
[]
[]
[]
[]
[]
[]
[]
[]
[]
[]
[]
[]
[]
[]
[]
[]
[]
[]
[]
[]
[]
[]
[]
[]
[]
[]
[]
[]
[]
[]
[]
[]
[]
[]
[]
[]
[]
[]
[]
[]
[]
[]
[]
[]
[]
[]
[]
[]
[]
[]
[]
[]
[]
[]
[]
[]
[]
[]
[]
[]
[]
[]
[]
[]
[]
[]
[]
[]
[]
[]
[]
[]
[]
[]
[]
[]
[]
[]
[]
[]
[]
[]
[]
[]
[]
[]
[]
[]
[]
[]
[]
[]
[]
[]
[]
[]
[]
[]
[]
[]
[]
[]
[]
[]
[]
[]
[]
[]
[]
[]
[]
[]
[]
[]
[]
[]
[]
[]
[]
[]
[]
[]
[]
[]
[]
[]
[]
[]
[]
[]
[]
[]
[]
[]
[]
[]
[]
[]
[]
[]
[]
[]
[]
[]
[]
[]
[]
[]
[]
[]
[]
[]
[]
[]
[]
[]
[]
[]
[]
[]
[]
[]
[]
[]
[]
[]
[]
[]
[]
[]
[]
[]
[]
[]
[]
[]
[]
[]
[]
[]
[]
[]
[]
[]
[]
[]
[]
[]
[]
[]
[]
[]
[]
[]
[]
[]
[]
[]
[]
[]
[]
[]
[]
[]
[]
[]
[]
[]
[]
[]
[]
[]
[]
[]
[]
[]
[null,{"$f":"SUM(B3:B1000)","v":0},{"$f":"SUM(C3:C1000)","v":0},null,null,{"$f":"SUM(F3:F1000)","v":0},{"$f":"SUM(G3:G1000)","v":0},null,null,{"$f":"SUM(J3:J1000)","v":0},{"$f":"SUM(K3:K1000)","v":0}]

{"sheet":"8","index":9,"n_rows":1001,"n_cols":11,"rows_kept":1001,"cut":false,"hidden":false,"merged":[[0,0,0,2],[0,4,0,6],[0,8,0,10],[0,12,5,13]]}
["REVENDA DE MERCADORIA (COMERCIO)",null,null,null,"VENDA DE PRODUTOS INDUSTRIALIZADOS",null,null,null,"SERVIÇOS"]
["DATA","COM NOTA","SEM NOTA",null,"DATA","COM NOTA","SEM NOTA",null,"DATA","COM NOTA","SEM NOTA"]
[]
[]
[]
[]
[]
[]
[]
[]
[]
[]
[]
[]
[]
[]
[]
[]
[]
[]
[]
[]
[]
[]
[]
[]
[]
[]
[]
[]
[]
[]
[]
[]
[]
[]
[]
[]
[]
[]
[]
[]
[]
[]
[]
[]
[]
[]
[]
[]
[]
[]
[]
[]
[]
[]
[]
[]
[]
[]
[]
[]
[]
[]
[]
[]
[]
[]
[]
[]
[]
[]
[]
[]
[]
[]
[]
[]
[]
[]
[]
[]
[]
[]
[]
[]
[]
[]
[]
[]
[]
[]
[]
[]
[]
[]
[]
[]
[]
[]
[]
[]
[]
[]
[]
[]
[]
[]
[]
[]
[]
[]
[]
[]
[]
[]
[]
[]
[]
[]
[]
[]
[]
[]
[]
[]
[]
[]
[]
[]
[]
[]
[]
[]
[]
[]
[]
[]
[]
[]
[]
[]
[]
[]
[]
[]
[]
[]
[]
[]
[]
[]
[]
[]
[]
[]
[]
[]
[]
[]
[]
[]
[]
[]
[]
[]
[]
[]
[]
[]
[]
[]
[]
[]
[]
[]
[]
[]
[]
[]
[]
[]
[]
[]
[]
[]
[]
[]
[]
[]
[]
[]
[]
[]
[]
[]
[]
[]
[]
[]
[]
[]
[]
[]
[]
[]
[]
[]
[]
[]
[]
[]
[]
[]
[]
[]
[]
[]
[]
[]
[]
[]
[]
[]
[]
[]
[]
[]
[]
[]
[]
[]
[]
[]
[]
[]
[]
[]
[]
[]
[]
[]
[]
[]
[]
[]
[]
[]
[]
[]
[]
[]
[]
[]
[]
[]
[]
[]
[]
[]
[]
[]
[]
[]
[]
[]
[]
[]
[]
[]
[]
[]
[]
[]
[]
[]
[]
[]
[]
[]
[]
[]
[]
[]
[]
[]
[]
[]
[]
[]
[]
[]
[]
[]
[]
[]
[]
[]
[]
[]
[]
[]
[]
[]
[]
[]
[]
[]
[]
[]
[]
[]
[]
[]
[]
[]
[]
[]
[]
[]
[]
[]
[]
[]
[]
[]
[]
[]
[]
[]
[]
[]
[]
[]
[]
[]
[]
[]
[]
[]
[]
[]
[]
[]
[]
[]
[]
[]
[]
[]
[]
[]
[]
[]
[]
[]
[]
[]
[]
[]
[]
[]
[]
[]
[]
[]
[]
[]
[]
[]
[]
[]
[]
[]
[]
[]
[]
[]
[]
[]
[]
[]
[]
[]
[]
[]
[]
[]
[]
[]
[]
[]
[]
[]
[]
[]
[]
[]
[]
[]
[]
[]
[]
[]
[]
[]
[]
[]
[]
[]
[]
[]
[]
[]
[]
[]
[]
[]
[]
[]
[]
[]
[]
[]
[]
[]
[]
[]
[]
[]
[]
[]
[]
[]
[]
[]
[]
[]
[]
[]
[]
[]
[]
[]
[]
[]
[]
[]
[]
[]
[]
[]
[]
[]
[]
[]
[]
[]
[]
[]
[]
[]
[]
[]
[]
[]
[]
[]
[]
[]
[]
[]
[]
[]
[]
[]
[]
[]
[]
[]
[]
[]
[]
[]
[]
[]
[]
[]
[]
[]
[]
[]
[]
[]
[]
[]
[]
[]
[]
[]
[]
[]
[]
[]
[]
[]
[]
[]
[]
[]
[]
[]
[]
[]
[]
[]
[]
[]
[]
[]
[]
[]
[]
[]
[]
[]
[]
[]
[]
[]
[]
[]
[]
[]
[]
[]
[]
[]
[]
[]
[]
[]
[]
[]
[]
[]
[]
[]
[]
[]
[]
[]
[]
[]
[]
[]
[]
[]
[]
[]
[]
[]
[]
[]
[]
[]
[]
[]
[]
[]
[]
[]
[]
[]
[]
[]
[]
[]
[]
[]
[]
[]
[]
[]
[]
[]
[]
[]
[]
[]
[]
[]
[]
[]
[]
[]
[]
[]
[]
[]
[]
[]
[]
[]
[]
[]
[]
[]
[]
[]
[]
[]
[]
[]
[]
[]
[]
[]
[]
[]
[]
[]
[]
[]
[]
[]
[]
[]
[]
[]
[]
[]
[]
[]
[]
[]
[]
[]
[]
[]
[]
[]
[]
[]
[]
[]
[]
[]
[]
[]
[]
[]
[]
[]
[]
[]
[]
[]
[]
[]
[]
[]
[]
[]
[]
[]
[]
[]
[]
[]
[]
[]
[]
[]
[]
[]
[]
[]
[]
[]
[]
[]
[]
[]
[]
[]
[]
[]
[]
[]
[]
[]
[]
[]
[]
[]
[]
[]
[]
[]
[]
[]
[]
[]
[]
[]
[]
[]
[]
[]
[]
[]
[]
[]
[]
[]
[]
[]
[]
[]
[]
[]
[]
[]
[]
[]
[]
[]
[]
[]
[]
[]
[]
[]
[]
[]
[]
[]
[]
[]
[]
[]
[]
[]
[]
[]
[]
[]
[]
[]
[]
[]
[]
[]
[]
[]
[]
[]
[]
[]
[]
[]
[]
[]
[]
[]
[]
[]
[]
[]
[]
[]
[]
[]
[]
[]
[]
[]
[]
[]
[]
[]
[]
[]
[]
[]
[]
[]
[]
[]
[]
[]
[]
[]
[]
[]
[]
[]
[]
[]
[]
[]
[]
[]
[]
[]
[]
[]
[]
[]
[]
[]
[]
[]
[]
[]
[]
[]
[]
[]
[]
[]
[]
[]
[]
[]
[]
[]
[]
[]
[]
[]
[]
[]
[]
[]
[]
[]
[]
[]
[]
[]
[]
[]
[]
[]
[]
[]
[]
[]
[]
[]
[]
[]
[]
[]
[]
[]
[]
[]
[]
[]
[]
[]
[]
[]
[]
[]
[]
[]
[]
[]
[]
[]
[]
[]
[]
[]
[]
[]
[]
[]
[]
[]
[]
[]
[]
[]
[]
[]
[]
[]
[]
[]
[]
[]
[]
[]
[]
[]
[]
[]
[]
[]
[]
[]
[]
[]
[]
[]
[]
[]
[]
[]
[]
[]
[]
[]
[]
[]
[]
[]
[]
[]
[]
[]
[]
[]
[]
[]
[]
[]
[]
[]
[]
[]
[]
[]
[]
[]
[]
[]
[]
[]
[]
[]
[]
[]
[]
[]
[]
[]
[]
[]
[]
[]
[]
[]
[]
[]
[]
[]
[]
[]
[]
[]
[]
[]
[]
[]
[]
[]
[]
[]
[]
[]
[]
[]
[]
[]
[]
[]
[]
[]
[]
[]
[]
[]
[]
[]
[]
[]
[]
[]
[]
[]
[]
[]
[]
[]
[null,{"$f":"SUM(B3:B1000)","v":0},{"$f":"SUM(C3:C1000)","v":0},null,null,{"$f":"SUM(F3:F1000)","v":0},{"$f":"SUM(G3:G1000)","v":0},null,null,{"$f":"SUM(J3:J1000)","v":0},{"$f":"SUM(K3:K1000)","v":0}]

{"sheet":"9","index":10,"n_rows":1001,"n_cols":11,"rows_kept":1001,"cut":false,"hidden":false,"merged":[[0,0,0,2],[0,4,0,6],[0,8,0,10],[0,12,5,13]]}
["REVENDA DE MERCADORIA (COMERCIO)",null,null,null,"VENDA DE PRODUTOS INDUSTRIALIZADOS",null,null,null,"SERVIÇOS"]
["DATA","COM NOTA","SEM NOTA",null,"DATA","COM NOTA","SEM NOTA",null,"DATA","COM NOTA","SEM NOTA"]
[]
[]
[]
[]
[]
[]
[]
[]
[]
[]
[]
[]
[]
[]
[]
[]
[]
[]
[]
[]
[]
[]
[]
[]
[]
[]
[]
[]
[]
[]
[]
[]
[]
[]
[]
[]
[]
[]
[]
[]
[]
[]
[]
[]
[]
[]
[]
[]
[]
[]
[]
[]
[]
[]
[]
[]
[]
[]
[]
[]
[]
[]
[]
[]
[]
[]
[]
[]
[]
[]
[]
[]
[]
[]
[]
[]
[]
[]
[]
[]
[]
[]
[]
[]
[]
[]
[]
[]
[]
[]
[]
[]
[]
[]
[]
[]
[]
[]
[]
[]
[]
[]
[]
[]
[]
[]
[]
[]
[]
[]
[]
[]
[]
[]
[]
[]
[]
[]
[]
[]
[]
[]
[]
[]
[]
[]
[]
[]
[]
[]
[]
[]
[]
[]
[]
[]
[]
[]
[]
[]
[]
[]
[]
[]
[]
[]
[]
[]
[]
[]
[]
[]
[]
[]
[]
[]
[]
[]
[]
[]
[]
[]
[]
[]
[]
[]
[]
[]
[]
[]
[]
[]
[]
[]
[]
[]
[]
[]
[]
[]
[]
[]
[]
[]
[]
[]
[]
[]
[]
[]
[]
[]
[]
[]
[]
[]
[]
[]
[]
[]
[]
[]
[]
[]
[]
[]
[]
[]
[]
[]
[]
[]
[]
[]
[]
[]
[]
[]
[]
[]
[]
[]
[]
[]
[]
[]
[]
[]
[]
[]
[]
[]
[]
[]
[]
[]
[]
[]
[]
[]
[]
[]
[]
[]
[]
[]
[]
[]
[]
[]
[]
[]
[]
[]
[]
[]
[]
[]
[]
[]
[]
[]
[]
[]
[]
[]
[]
[]
[]
[]
[]
[]
[]
[]
[]
[]
[]
[]
[]
[]
[]
[]
[]
[]
[]
[]
[]
[]
[]
[]
[]
[]
[]
[]
[]
[]
[]
[]
[]
[]
[]
[]
[]
[]
[]
[]
[]
[]
[]
[]
[]
[]
[]
[]
[]
[]
[]
[]
[]
[]
[]
[]
[]
[]
[]
[]
[]
[]
[]
[]
[]
[]
[]
[]
[]
[]
[]
[]
[]
[]
[]
[]
[]
[]
[]
[]
[]
[]
[]
[]
[]
[]
[]
[]
[]
[]
[]
[]
[]
[]
[]
[]
[]
[]
[]
[]
[]
[]
[]
[]
[]
[]
[]
[]
[]
[]
[]
[]
[]
[]
[]
[]
[]
[]
[]
[]
[]
[]
[]
[]
[]
[]
[]
[]
[]
[]
[]
[]
[]
[]
[]
[]
[]
[]
[]
[]
[]
[]
[]
[]
[]
[]
[]
[]
[]
[]
[]
[]
[]
[]
[]
[]
[]
[]
[]
[]
[]
[]
[]
[]
[]
[]
[]
[]
[]
[]
[]
[]
[]
[]
[]
[]
[]
[]
[]
[]
[]
[]
[]
[]
[]
[]
[]
[]
[]
[]
[]
[]
[]
[]
[]
[]
[]
[]
[]
[]
[]
[]
[]
[]
[]
[]
[]
[]
[]
[]
[]
[]
[]
[]
[]
[]
[]
[]
[]
[]
[]
[]
[]
[]
[]
[]
[]
[]
[]
[]
[]
[]
[]
[]
[]
[]
[]
[]
[]
[]
[]
[]
[]
[]
[]
[]
[]
[]
[]
[]
[]
[]
[]
[]
[]
[]
[]
[]
[]
[]
[]
[]
[]
[]
[]
[]
[]
[]
[]
[]
[]
[]
[]
[]
[]
[]
[]
[]
[]
[]
[]
[]
[]
[]
[]
[]
[]
[]
[]
[]
[]
[]
[]
[]
[]
[]
[]
[]
[]
[]
[]
[]
[]
[]
[]
[]
[]
[]
[]
[]
[]
[]
[]
[]
[]
[]
[]
[]
[]
[]
[]
[]
[]
[]
[]
[]
[]
[]
[]
[]
[]
[]
[]
[]
[]
[]
[]
[]
[]
[]
[]
[]
[]
[]
[]
[]
[]
[]
[]
[]
[]
[]
[]
[]
[]
[]
[]
[]
[]
[]
[]
[]
[]
[]
[]
[]
[]
[]
[]
[]
[]
[]
[]
[]
[]
[]
[]
[]
[]
[]
[]
[]
[]
[]
[]
[]
[]
[]
[]
[]
[]
[]
[]
[]
[]
[]
[]
[]
[]
[]
[]
[]
[]
[]
[]
[]
[]
[]
[]
[]
[]
[]
[]
[]
[]
[]
[]
[]
[]
[]
[]
[]
[]
[]
[]
[]
[]
[]
[]
[]
[]
[]
[]
[]
[]
[]
[]
[]
[]
[]
[]
[]
[]
[]
[]
[]
[]
[]
[]
[]
[]
[]
[]
[]
[]
[]
[]
[]
[]
[]
[]
[]
[]
[]
[]
[]
[]
[]
[]
[]
[]
[]
[]
[]
[]
[]
[]
[]
[]
[]
[]
[]
[]
[]
[]
[]
[]
[]
[]
[]
[]
[]
[]
[]
[]
[]
[]
[]
[]
[]
[]
[]
[]
[]
[]
[]
[]
[]
[]
[]
[]
[]
[]
[]
[]
[]
[]
[]
[]
[]
[]
[]
[]
[]
[]
[]
[]
[]
[]
[]
[]
[]
[]
[]
[]
[]
[]
[]
[]
[]
[]
[]
[]
[]
[]
[]
[]
[]
[]
[]
[]
[]
[]
[]
[]
[]
[]
[]
[]
[]
[]
[]
[]
[]
[]
[]
[]
[]
[]
[]
[]
[]
[]
[]
[]
[]
[]
[]
[]
[]
[]
[]
[]
[]
[]
[]
[]
[]
[]
[]
[]
[]
[]
[]
[]
[]
[]
[]
[]
[]
[]
[]
[]
[]
[]
[]
[]
[]
[]
[]
[]
[]
[]
[]
[]
[]
[]
[]
[]
[]
[]
[]
[]
[]
[]
[]
[]
[]
[]
[]
[]
[]
[]
[]
[]
[]
[]
[]
[]
[]
[]
[]
[]
[]
[]
[]
[]
[]
[]
[]
[]
[]
[]
[]
[]
[]
[]
[]
[]
[]
[]
[]
[]
[]
[]
[]
[]
[]
[]
[]
[]
[]
[]
[]
[]
[]
[]
[]
[]
[]
[]
[]
[]
[]
[]
[]
[]
[]
[]
[]
[]
[]
[]
[]
[]
[]
[]
[]
[]
[]
[]
[]
[]
[]
[]
[]
[]
[]
[]
[]
[]
[]
[]
[]
[]
[]
[]
[]
[]
[]
[]
[]
[]
[]
[]
[]
[]
[]
[]
[]
[]
[]
[null,{"$f":"SUM(B3:B1000)","v":0},{"$f":"SUM(C3:C1000)","v":0},null,null,{"$f":"SUM(F3:F1000)","v":0},{"$f":"SUM(G3:G1000)","v":0},null,null,{"$f":"SUM(J3:J1000)","v":0},{"$f":"SUM(K3:K1000)","v":0}]

{"sheet":"10","index":11,"n_rows":1001,"n_cols":11,"rows_kept":1001,"cut":false,"hidden":false,"merged":[[0,0,0,2],[0,4,0,6],[0,8,0,10],[0,12,5,13]]}
["REVENDA DE MERCADORIA (COMERCIO)",null,null,null,"VENDA DE PRODUTOS INDUSTRIALIZADOS",null,null,null,"SERVIÇOS"]
["DATA","COM NOTA","SEM NOTA",null,"DATA","COM NOTA","SEM NOTA",null,"DATA","COM NOTA","SEM NOTA"]
[]
[]
[]
[]
[]
[]
[]
[]
[]
[]
[]
[]
[]
[]
[]
[]
[]
[]
[]
[]
[]
[]
[]
[]
[]
[]
[]
[]
[]
[]
[]
[]
[]
[]
[]
[]
[]
[]
[]
[]
[]
[]
[]
[]
[]
[]
[]
[]
[]
[]
[]
[]
[]
[]
[]
[]
[]
[]
[]
[]
[]
[]
[]
[]
[]
[]
[]
[]
[]
[]
[]
[]
[]
[]
[]
[]
[]
[]
[]
[]
[]
[]
[]
[]
[]
[]
[]
[]
[]
[]
[]
[]
[]
[]
[]
[]
[]
[]
[]
[]
[]
[]
[]
[]
[]
[]
[]
[]
[]
[]
[]
[]
[]
[]
[]
[]
[]
[]
[]
[]
[]
[]
[]
[]
[]
[]
[]
[]
[]
[]
[]
[]
[]
[]
[]
[]
[]
[]
[]
[]
[]
[]
[]
[]
[]
[]
[]
[]
[]
[]
[]
[]
[]
[]
[]
[]
[]
[]
[]
[]
[]
[]
[]
[]
[]
[]
[]
[]
[]
[]
[]
[]
[]
[]
[]
[]
[]
[]
[]
[]
[]
[]
[]
[]
[]
[]
[]
[]
[]
[]
[]
[]
[]
[]
[]
[]
[]
[]
[]
[]
[]
[]
[]
[]
[]
[]
[]
[]
[]
[]
[]
[]
[]
[]
[]
[]
[]
[]
[]
[]
[]
[]
[]
[]
[]
[]
[]
[]
[]
[]
[]
[]
[]
[]
[]
[]
[]
[]
[]
[]
[]
[]
[]
[]
[]
[]
[]
[]
[]
[]
[]
[]
[]
[]
[]
[]
[]
[]
[]
[]
[]
[]
[]
[]
[]
[]
[]
[]
[]
[]
[]
[]
[]
[]
[]
[]
[]
[]
[]
[]
[]
[]
[]
[]
[]
[]
[]
[]
[]
[]
[]
[]
[]
[]
[]
[]
[]
[]
[]
[]
[]
[]
[]
[]
[]
[]
[]
[]
[]
[]
[]
[]
[]
[]
[]
[]
[]
[]
[]
[]
[]
[]
[]
[]
[]
[]
[]
[]
[]
[]
[]
[]
[]
[]
[]
[]
[]
[]
[]
[]
[]
[]
[]
[]
[]
[]
[]
[]
[]
[]
[]
[]
[]
[]
[]
[]
[]
[]
[]
[]
[]
[]
[]
[]
[]
[]
[]
[]
[]
[]
[]
[]
[]
[]
[]
[]
[]
[]
[]
[]
[]
[]
[]
[]
[]
[]
[]
[]
[]
[]
[]
[]
[]
[]
[]
[]
[]
[]
[]
[]
[]
[]
[]
[]
[]
[]
[]
[]
[]
[]
[]
[]
[]
[]
[]
[]
[]
[]
[]
[]
[]
[]
[]
[]
[]
[]
[]
[]
[]
[]
[]
[]
[]
[]
[]
[]
[]
[]
[]
[]
[]
[]
[]
[]
[]
[]
[]
[]
[]
[]
[]
[]
[]
[]
[]
[]
[]
[]
[]
[]
[]
[]
[]
[]
[]
[]
[]
[]
[]
[]
[]
[]
[]
[]
[]
[]
[]
[]
[]
[]
[]
[]
[]
[]
[]
[]
[]
[]
[]
[]
[]
[]
[]
[]
[]
[]
[]
[]
[]
[]
[]
[]
[]
[]
[]
[]
[]
[]
[]
[]
[]
[]
[]
[]
[]
[]
[]
[]
[]
[]
[]
[]
[]
[]
[]
[]
[]
[]
[]
[]
[]
[]
[]
[]
[]
[]
[]
[]
[]
[]
[]
[]
[]
[]
[]
[]
[]
[]
[]
[]
[]
[]
[]
[]
[]
[]
[]
[]
[]
[]
[]
[]
[]
[]
[]
[]
[]
[]
[]
[]
[]
[]
[]
[]
[]
[]
[]
[]
[]
[]
[]
[]
[]
[]
[]
[]
[]
[]
[]
[]
[]
[]
[]
[]
[]
[]
[]
[]
[]
[]
[]
[]
[]
[]
[]
[]
[]
[]
[]
[]
[]
[]
[]
[]
[]
[]
[]
[]
[]
[]
[]
[]
[]
[]
[]
[]
[]
[]
[]
[]
[]
[]
[]
[]
[]
[]
[]
[]
[]
[]
[]
[]
[]
[]
[]
[]
[]
[]
[]
[]
[]
[]
[]
[]
[]
[]
[]
[]
[]
[]
[]
[]
[]
[]
[]
[]
[]
[]
[]
[]
[]
[]
[]
[]
[]
[]
[]
[]
[]
[]
[]
[]
[]
[]
[]
[]
[]
[]
[]
[]
[]
[]
[]
[]
[]
[]
[]
[]
[]
[]
[]
[]
[]
[]
[]
[]
[]
[]
[]
[]
[]
[]
[]
[]
[]
[]
[]
[]
[]
[]
[]
[]
[]
[]
[]
[]
[]
[]
[]
[]
[]
[]
[]
[]
[]
[]
[]
[]
[]
[]
[]
[]
[]
[]
[]
[]
[]
[]
[]
[]
[]
[]
[]
[]
[]
[]
[]
[]
[]
[]
[]
[]
[]
[]
[]
[]
[]
[]
[]
[]
[]
[]
[]
[]
[]
[]
[]
[]
[]
[]
[]
[]
[]
[]
[]
[]
[]
[]
[]
[]
[]
[]
[]
[]
[]
[]
[]
[]
[]
[]
[]
[]
[]
[]
[]
[]
[]
[]
[]
[]
[]
[]
[]
[]
[]
[]
[]
[]
[]
[]
[]
[]
[]
[]
[]
[]
[]
[]
[]
[]
[]
[]
[]
[]
[]
[]
[]
[]
[]
[]
[]
[]
[]
[]
[]
[]
[]
[]
[]
[]
[]
[]
[]
[]
[]
[]
[]
[]
[]
[]
[]
[]
[]
[]
[]
[]
[]
[]
[]
[]
[]
[]
[]
[]
[]
[]
[]
[]
[]
[]
[]
[]
[]
[]
[]
[]
[]
[]
[]
[]
[]
[]
[]
[]
[]
[]
[]
[]
[]
[]
[]
[]
[]
[]
[]
[]
[]
[]
[]
[]
[]
[]
[]
[]
[]
[]
[]
[]
[]
[]
[]
[]
[]
[]
[]
[]
[]
[]
[]
[]
[]
[]
[]
[]
[]
[]
[]
[]
[]
[]
[]
[]
[]
[]
[]
[]
[]
[]
[]
[]
[]
[]
[]
[]
[]
[]
[]
[]
[]
[]
[]
[]
[]
[]
[]
[]
[]
[]
[]
[]
[]
[]
[]
[]
[]
[]
[]
[]
[]
[]
[]
[]
[]
[]
[]
[]
[]
[]
[]
[]
[]
[]
[]
[]
[]
[]
[]
[]
[null,{"$f":"SUM(B3:B1000)","v":0},{"$f":"SUM(C3:C1000)","v":0},null,null,{"$f":"SUM(F3:F1000)","v":0},{"$f":"SUM(G3:G1000)","v":0},null,null,{"$f":"SUM(J3:J1000)","v":0},{"$f":"SUM(K3:K1000)","v":0}]

{"sheet":"11","index":12,"n_rows":1001,"n_cols":11,"rows_kept":1001,"cut":false,"hidden":false,"merged":[[0,0,0,2],[0,4,0,6],[0,8,0,10],[0,12,5,13]]}
["REVENDA DE MERCADORIA (COMERCIO)",null,null,null,"VENDA DE PRODUTOS INDUSTRIALIZADOS",null,null,null,"SERVIÇOS"]
["DATA","COM NOTA","SEM NOTA",null,"DATA","COM NOTA","SEM NOTA",null,"DATA","COM NOTA","SEM NOTA"]
[]
[]
[]
[]
[]
[]
[]
[]
[]
[]
[]
[]
[]
[]
[]
[]
[]
[]
[]
[]
[]
[]
[]
[]
[]
[]
[]
[]
[]
[]
[]
[]
[]
[]
[]
[]
[]
[]
[]
[]
[]
[]
[]
[]
[]
[]
[]
[]
[]
[]
[]
[]
[]
[]
[]
[]
[]
[]
[]
[]
[]
[]
[]
[]
[]
[]
[]
[]
[]
[]
[]
[]
[]
[]
[]
[]
[]
[]
[]
[]
[]
[]
[]
[]
[]
[]
[]
[]
[]
[]
[]
[]
[]
[]
[]
[]
[]
[]
[]
[]
[]
[]
[]
[]
[]
[]
[]
[]
[]
[]
[]
[]
[]
[]
[]
[]
[]
[]
[]
[]
[]
[]
[]
[]
[]
[]
[]
[]
[]
[]
[]
[]
[]
[]
[]
[]
[]
[]
[]
[]
[]
[]
[]
[]
[]
[]
[]
[]
[]
[]
[]
[]
[]
[]
[]
[]
[]
[]
[]
[]
[]
[]
[]
[]
[]
[]
[]
[]
[]
[]
[]
[]
[]
[]
[]
[]
[]
[]
[]
[]
[]
[]
[]
[]
[]
[]
[]
[]
[]
[]
[]
[]
[]
[]
[]
[]
[]
[]
[]
[]
[]
[]
[]
[]
[]
[]
[]
[]
[]
[]
[]
[]
[]
[]
[]
[]
[]
[]
[]
[]
[]
[]
[]
[]
[]
[]
[]
[]
[]
[]
[]
[]
[]
[]
[]
[]
[]
[]
[]
[]
[]
[]
[]
[]
[]
[]
[]
[]
[]
[]
[]
[]
[]
[]
[]
[]
[]
[]
[]
[]
[]
[]
[]
[]
[]
[]
[]
[]
[]
[]
[]
[]
[]
[]
[]
[]
[]
[]
[]
[]
[]
[]
[]
[]
[]
[]
[]
[]
[]
[]
[]
[]
[]
[]
[]
[]
[]
[]
[]
[]
[]
[]
[]
[]
[]
[]
[]
[]
[]
[]
[]
[]
[]
[]
[]
[]
[]
[]
[]
[]
[]
[]
[]
[]
[]
[]
[]
[]
[]
[]
[]
[]
[]
[]
[]
[]
[]
[]
[]
[]
[]
[]
[]
[]
[]
[]
[]
[]
[]
[]
[]
[]
[]
[]
[]
[]
[]
[]
[]
[]
[]
[]
[]
[]
[]
[]
[]
[]
[]
[]
[]
[]
[]
[]
[]
[]
[]
[]
[]
[]
[]
[]
[]
[]
[]
[]
[]
[]
[]
[]
[]
[]
[]
[]
[]
[]
[]
[]
[]
[]
[]
[]
[]
[]
[]
[]
[]
[]
[]
[]
[]
[]
[]
[]
[]
[]
[]
[]
[]
[]
[]
[]
[]
[]
[]
[]
[]
[]
[]
[]
[]
[]
[]
[]
[]
[]
[]
[]
[]
[]
[]
[]
[]
[]
[]
[]
[]
[]
[]
[]
[]
[]
[]
[]
[]
[]
[]
[]
[]
[]
[]
[]
[]
[]
[]
[]
[]
[]
[]
[]
[]
[]
[]
[]
[]
[]
[]
[]
[]
[]
[]
[]
[]
[]
[]
[]
[]
[]
[]
[]
[]
[]
[]
[]
[]
[]
[]
[]
[]
[]
[]
[]
[]
[]
[]
[]
[]
[]
[]
[]
[]
[]
[]
[]
[]
[]
[]
[]
[]
[]
[]
[]
[]
[]
[]
[]
[]
[]
[]
[]
[]
[]
[]
[]
[]
[]
[]
[]
[]
[]
[]
[]
[]
[]
[]
[]
[]
[]
[]
[]
[]
[]
[]
[]
[]
[]
[]
[]
[]
[]
[]
[]
[]
[]
[]
[]
[]
[]
[]
[]
[]
[]
[]
[]
[]
[]
[]
[]
[]
[]
[]
[]
[]
[]
[]
[]
[]
[]
[]
[]
[]
[]
[]
[]
[]
[]
[]
[]
[]
[]
[]
[]
[]
[]
[]
[]
[]
[]
[]
[]
[]
[]
[]
[]
[]
[]
[]
[]
[]
[]
[]
[]
[]
[]
[]
[]
[]
[]
[]
[]
[]
[]
[]
[]
[]
[]
[]
[]
[]
[]
[]
[]
[]
[]
[]
[]
[]
[]
[]
[]
[]
[]
[]
[]
[]
[]
[]
[]
[]
[]
[]
[]
[]
[]
[]
[]
[]
[]
[]
[]
[]
[]
[]
[]
[]
[]
[]
[]
[]
[]
[]
[]
[]
[]
[]
[]
[]
[]
[]
[]
[]
[]
[]
[]
[]
[]
[]
[]
[]
[]
[]
[]
[]
[]
[]
[]
[]
[]
[]
[]
[]
[]
[]
[]
[]
[]
[]
[]
[]
[]
[]
[]
[]
[]
[]
[]
[]
[]
[]
[]
[]
[]
[]
[]
[]
[]
[]
[]
[]
[]
[]
[]
[]
[]
[]
[]
[]
[]
[]
[]
[]
[]
[]
[]
[]
[]
[]
[]
[]
[]
[]
[]
[]
[]
[]
[]
[]
[]
[]
[]
[]
[]
[]
[]
[]
[]
[]
[]
[]
[]
[]
[]
[]
[]
[]
[]
[]
[]
[]
[]
[]
[]
[]
[]
[]
[]
[]
[]
[]
[]
[]
[]
[]
[]
[]
[]
[]
[]
[]
[]
[]
[]
[]
[]
[]
[]
[]
[]
[]
[]
[]
[]
[]
[]
[]
[]
[]
[]
[]
[]
[]
[]
[]
[]
[]
[]
[]
[]
[]
[]
[]
[]
[]
[]
[]
[]
[]
[]
[]
[]
[]
[]
[]
[]
[]
[]
[]
[]
[]
[]
[]
[]
[]
[]
[]
[]
[]
[]
[]
[]
[]
[]
[]
[]
[]
[]
[]
[]
[]
[]
[]
[]
[]
[]
[]
[]
[]
[]
[]
[]
[]
[]
[]
[]
[]
[]
[]
[]
[]
[]
[]
[]
[]
[]
[]
[]
[]
[]
[]
[]
[]
[]
[]
[]
[]
[]
[]
[]
[]
[]
[]
[]
[]
[]
[]
[]
[]
[]
[]
[]
[]
[]
[]
[]
[]
[]
[]
[]
[]
[]
[]
[]
[]
[]
[]
[]
[]
[]
[]
[]
[]
[]
[]
[]
[]
[]
[]
[]
[]
[]
[]
[]
[]
[]
[]
[]
[]
[]
[]
[]
[]
[]
[]
[]
[]
[]
[]
[]
[]
[]
[]
[]
[]
[]
[]
[]
[]
[]
[]
[]
[]
[]
[]
[]
[]
[]
[]
[]
[null,{"$f":"SUM(B3:B1000)","v":0},{"$f":"SUM(C3:C1000)","v":0},null,null,{"$f":"SUM(F3:F1000)","v":0},{"$f":"SUM(G3:G1000)","v":0},null,null,{"$f":"SUM(J3:J1000)","v":0},{"$f":"SUM(K3:K1000)","v":0}]

{"sheet":"12","index":13,"n_rows":1001,"n_cols":12,"rows_kept":1001,"cut":false,"hidden":false,"merged":[[0,0,0,2],[0,4,0,6],[0,8,0,10],[0,12,5,13]]}
["REVENDA DE MERCADORIA (COMERCIO)",null,null,null,"VENDA DE PRODUTOS INDUSTRIALIZADOS",null,null,null,"SERVIÇOS",null,null," "]
["DATA","COM NOTA","SEM NOTA",null,"DATA","COM NOTA","SEM NOTA",null,"DATA","COM NOTA","SEM NOTA"]
[]
[]
[]
[]
[]
[]
[]
[]
[]
[]
[]
[]
[]
[]
[]
[]
[]
[]
[]
[]
[]
[]
[]
[]
[]
[]
[]
[]
[]
[]
[]
[]
[]
[]
[]
[]
[]
[]
[]
[]
[]
[]
[]
[]
[]
[]
[]
[]
[]
[]
[]
[]
[]
[]
[]
[]
[]
[]
[]
[]
[]
[]
[]
[]
[]
[]
[]
[]
[]
[]
[]
[]
[]
[]
[]
[]
[]
[]
[]
[]
[]
[]
[]
[]
[]
[]
[]
[]
[]
[]
[]
[]
[]
[]
[]
[]
[]
[]
[]
[]
[]
[]
[]
[]
[]
[]
[]
[]
[]
[]
[]
[]
[]
[]
[]
[]
[]
[]
[]
[]
[]
[]
[]
[]
[]
[]
[]
[]
[]
[]
[]
[]
[]
[]
[]
[]
[]
[]
[]
[]
[]
[]
[]
[]
[]
[]
[]
[]
[]
[]
[]
[]
[]
[]
[]
[]
[]
[]
[]
[]
[]
[]
[]
[]
[]
[]
[]
[]
[]
[]
[]
[]
[]
[]
[]
[]
[]
[]
[]
[]
[]
[]
[]
[]
[]
[]
[]
[]
[]
[]
[]
[]
[]
[]
[]
[]
[]
[]
[]
[]
[]
[]
[]
[]
[]
[]
[]
[]
[]
[]
[]
[]
[]
[]
[]
[]
[]
[]
[]
[]
[]
[]
[]
[]
[]
[]
[]
[]
[]
[]
[]
[]
[]
[]
[]
[]
[]
[]
[]
[]
[]
[]
[]
[]
[]
[]
[]
[]
[]
[]
[]
[]
[]
[]
[]
[]
[]
[]
[]
[]
[]
[]
[]
[]
[]
[]
[]
[]
[]
[]
[]
[]
[]
[]
[]
[]
[]
[]
[]
[]
[]
[]
[]
[]
[]
[]
[]
[]
[]
[]
[]
[]
[]
[]
[]
[]
[]
[]
[]
[]
[]
[]
[]
[]
[]
[]
[]
[]
[]
[]
[]
[]
[]
[]
[]
[]
[]
[]
[]
[]
[]
[]
[]
[]
[]
[]
[]
[]
[]
[]
[]
[]
[]
[]
[]
[]
[]
[]
[]
[]
[]
[]
[]
[]
[]
[]
[]
[]
[]
[]
[]
[]
[]
[]
[]
[]
[]
[]
[]
[]
[]
[]
[]
[]
[]
[]
[]
[]
[]
[]
[]
[]
[]
[]
[]
[]
[]
[]
[]
[]
[]
[]
[]
[]
[]
[]
[]
[]
[]
[]
[]
[]
[]
[]
[]
[]
[]
[]
[]
[]
[]
[]
[]
[]
[]
[]
[]
[]
[]
[]
[]
[]
[]
[]
[]
[]
[]
[]
[]
[]
[]
[]
[]
[]
[]
[]
[]
[]
[]
[]
[]
[]
[]
[]
[]
[]
[]
[]
[]
[]
[]
[]
[]
[]
[]
[]
[]
[]
[]
[]
[]
[]
[]
[]
[]
[]
[]
[]
[]
[]
[]
[]
[]
[]
[]
[]
[]
[]
[]
[]
[]
[]
[]
[]
[]
[]
[]
[]
[]
[]
[]
[]
[]
[]
[]
[]
[]
[]
[]
[]
[]
[]
[]
[]
[]
[]
[]
[]
[]
[]
[]
[]
[]
[]
[]
[]
[]
[]
[]
[]
[]
[]
[]
[]
[]
[]
[]
[]
[]
[]
[]
[]
[]
[]
[]
[]
[]
[]
[]
[]
[]
[]
[]
[]
[]
[]
[]
[]
[]
[]
[]
[]
[]
[]
[]
[]
[]
[]
[]
[]
[]
[]
[]
[]
[]
[]
[]
[]
[]
[]
[]
[]
[]
[]
[]
[]
[]
[]
[]
[]
[]
[]
[]
[]
[]
[]
[]
[]
[]
[]
[]
[]
[]
[]
[]
[]
[]
[]
[]
[]
[]
[]
[]
[]
[]
[]
[]
[]
[]
[]
[]
[]
[]
[]
[]
[]
[]
[]
[]
[]
[]
[]
[]
[]
[]
[]
[]
[]
[]
[]
[]
[]
[]
[]
[]
[]
[]
[]
[]
[]
[]
[]
[]
[]
[]
[]
[]
[]
[]
[]
[]
[]
[]
[]
[]
[]
[]
[]
[]
[]
[]
[]
[]
[]
[]
[]
[]
[]
[]
[]
[]
[]
[]
[]
[]
[]
[]
[]
[]
[]
[]
[]
[]
[]
[]
[]
[]
[]
[]
[]
[]
[]
[]
[]
[]
[]
[]
[]
[]
[]
[]
[]
[]
[]
[]
[]
[]
[]
[]
[]
[]
[]
[]
[]
[]
[]
[]
[]
[]
[]
[]
[]
[]
[]
[]
[]
[]
[]
[]
[]
[]
[]
[]
[]
[]
[]
[]
[]
[]
[]
[]
[]
[]
[]
[]
[]
[]
[]
[]
[]
[]
[]
[]
[]
[]
[]
[]
[]
[]
[]
[]
[]
[]
[]
[]
[]
[]
[]
[]
[]
[]
[]
[]
[]
[]
[]
[]
[]
[]
[]
[]
[]
[]
[]
[]
[]
[]
[]
[]
[]
[]
[]
[]
[]
[]
[]
[]
[]
[]
[]
[]
[]
[]
[]
[]
[]
[]
[]
[]
[]
[]
[]
[]
[]
[]
[]
[]
[]
[]
[]
[]
[]
[]
[]
[]
[]
[]
[]
[]
[]
[]
[]
[]
[]
[]
[]
[]
[]
[]
[]
[]
[]
[]
[]
[]
[]
[]
[]
[]
[]
[]
[]
[]
[]
[]
[]
[]
[]
[]
[]
[]
[]
[]
[]
[]
[]
[]
[]
[]
[]
[]
[]
[]
[]
[]
[]
[]
[]
[]
[]
[]
[]
[]
[]
[]
[]
[]
[]
[]
[]
[]
[]
[]
[]
[]
[]
[]
[]
[]
[]
[]
[]
[]
[]
[]
[]
[]
[]
[]
[]
[]
[]
[]
[]
[]
[]
[]
[]
[]
[]
[]
[]
[]
[]
[]
[]
[]
[]
[]
[]
[]
[]
[]
[]
[]
[]
[]
[]
[]
[]
[]
[]
[]
[]
[]
[]
[]
[]
[]
[]
[]
[]
[]
[]
[]
[]
[]
[]
[]
[]
[]
[]
[]
[]
[]
[]
[]
[]
[]
[]
[]
[]
[]
[]
[]
[]
[]
[]
[]
[]
[]
[]
[]
[]
[]
[]
[]
[]
[]
[]
[]
[]
[]
[]
[]
[]
[]
[]
[]
[]
[]
[]
[]
[]
[]
[]
[]
[]
[null,{"$f":"SUM(B3:B1000)","v":0},{"$f":"SUM(C3:C1000)","v":0},null,null,{"$f":"SUM(F3:F1000)","v":0},{"$f":"SUM(G3:G1000)","v":0},null,null,{"$f":"SUM(J3:J1000)","v":0},{"$f":"SUM(K3:K1000)","v":0}]

{"sheet":"imp1","index":14,"n_rows":25,"n_cols":3,"rows_kept":25,"cut":false,"hidden":false,"merged":[[19,0,19,2],[11,0,11,1],[13,0,13,1],[17,2,18,2],[0,0,0,2],[4,0,4,2],[8,0,8,2],[12,0,12,2],[5,0,5,1],[6,0,6,1],[7,0,7,1],[9,0,9,1],[10,0,10,1],[14,0,14,1],[15,0,15,1],[16,0,16,1]]}
["RELATÓRIO MENSAL DAS RECEITAS BRUTAS"]
["CNPJ:",{"$f":"GERAL!B13","v":"01.000.20/0001-00"}]
["Empreendedor individual:",{"$f":"GERAL!B14","v":"teste"}]
["Período de apuração:",10,{"$f":"IF(B4=1,\"Janeiro\",IF(B4=2,\"Fevereiro\",IF(B4=3,\"Março\",IF(B4=4,\"Abril\",IF(B4=5,\"Maio\",IF(B4=6,\"Junho\",IF(B4=7,\"Julho\",IF(B4=8,\"Agosto\",IF(B4=9,\"Setembro\",IF(B4=10,\"Outubro\",IF(B4=11,\"Novembro\",IF(B4=12,\"Dezembro\",\"ERRO\"))))))))))))","v":"Outubro"}]
["RECEITA BRUTA MENSAL – REVENDA DE MERCADORIAS (COMÉRCIO)"]
["I – Revenda de mercadorias com dispensa de emissão de documento fiscal",null,{"$f":"IF(B4=1,'1'!C1001,IF(B4=2,'2'!C1001,IF(B4=3,'3'!C1001,IF(B4=4,'4'!C1001,IF(B4=5,'5'!C1001,IF(B4=6,'6'!C1001,IF(B4=7,'7'!C1001,IF(B4=8,'8'!C1001,IF(B4=9,'9'!C1001,IF(B4=10,'10'!C1001,IF(B4=11,'11'!C1001,IF(B4=12,'12'!C1001,\"Erro\"))))))))))))","v":0}]
["II – Revenda de mercadorias com documento fiscal emitido",null,{"$f":"IF(B4=1,'1'!B1001,IF(B4=2,'2'!B1001,IF(B4=3,'3'!B1001,IF(B4=4,'4'!B1001,IF(B4=5,'5'!B1001,IF(B4=6,'6'!B1001,IF(B4=7,'7'!B1001,IF(B4=8,'8'!B1001,IF(B4=9,'9'!B1001,IF(B4=10,'10'!B1001,IF(B4=11,'11'!B1001,IF(B4=12,'12'!B1001,\"Erro\"))))))))))))","v":0}]
["III – Total das receitas com revenda de mercadorias (I + II)",null,{"$f":"SUM(C6:C7)","v":0}]
["RECEITA BRUTA MENSAL – VENDA DE PRODUTOS INDUSTRIALIZADOS (INDÚSTRIA)"]
["IV – Venda de produtos industrializados com dispensa de emissão de documento fiscal",null,{"$f":"IF(B4=1,'1'!G1001,IF(B4=2,'2'!G1001,IF(B4=3,'3'!G1001,IF(B4=4,'4'!G1001,IF(B4=5,'5'!G1001,IF(B4=6,'6'!G1001,IF(B4=7,'7'!G1001,IF(B4=8,'8'!G1001,IF(B4=9,'9'!G1001,IF(B4=10,'10'!G1001,IF(B4=11,'11'!G1001,IF(B4=12,'12'!G1001,\"Erro\"))))))))))))","v":0}]
["V – Venda de produtos industrializados com documento fiscal emitido",null,{"$f":"IF(B4=1,'1'!F1001,IF(B4=2,'2'!F1001,IF(B4=3,'3'!F1001,IF(B4=4,'4'!F1001,IF(B4=5,'5'!F1001,IF(B4=6,'6'!F1001,IF(B4=7,'7'!F1001,IF(B4=8,'8'!F1001,IF(B4=9,'9'!F1001,IF(B4=10,'10'!F1001,IF(B4=11,'11'!F1001,IF(B4=12,'12'!F1001,\"Erro\"))))))))))))","v":0}]
["VI – Total das receitas com venda de produtos industrializados (IV + V)",null,{"$f":"SUM(C10:C11)","v":0}]
["RECEITA BRUTA MENSAL – PRESTAÇÃO DE SERVIÇOS"]
["VII – Receita com prestação de serviços com dispensa de emissão de documento fiscal",null,{"$f":"IF(B4=1,'1'!K1001,IF(B4=2,'2'!K1001,IF(B4=3,'3'!K1001,IF(B4=4,'4'!K1001,IF(B4=5,'5'!K1001,IF(B4=6,'6'!K1001,IF(B4=7,'7'!K1001,IF(B4=8,'8'!K1001,IF(B4=9,'9'!K1001,IF(B4=10,'10'!K1001,IF(B4=11,'11'!K1001,IF(B4=12,'12'!K1001,\"Erro\"))))))))))))","v":0}]
["VIII – Receita com prestação de serviços com documento fiscal emitido",null,{"$f":"IF(B4=1,'1'!J1001,IF(B4=2,'2'!J1001,IF(B4=3,'3'!J1001,IF(B4=4,'4'!J1001,IF(B4=5,'5'!J1001,IF(B4=6,'6'!J1001,IF(B4=7,'7'!J1001,IF(B4=8,'8'!J1001,IF(B4=9,'9'!J1001,IF(B4=10,'10'!J1001,IF(B4=11,'11'!J1001,IF(B4=12,'12'!J1001,\"Erro\"))))))))))))","v":0}]
["IX – Total das receitas com prestação de serviços (VII + VIII)",null,{"$f":"SUM(C13:C15)","v":0}]
["X - Total geral das receitas brutas no mês (III + VI + IX)",null,{"$f":"C16+C12+C8","v":0}]
["LOCAL E DATA:",null,"ASSINATURA DO EMPRESÁRIO:"]
[{"$f":"GERAL!H13","v":"Blumenau"},{"$f":"TODAY()","v":"2022-01-07"}]
["ENCONTRAM-SE ANEXADOS E ESTE RELATÓRIO: -"]
[" -Os documentos fiscais comprobatórios das entradas de mercadorias e serviços tomados referentes ao período;"]
[" - As notas fiscais relativas às operações ou prestações realizadas eventualmente emitidas."]
[]
[]
[" -"]

{"sheet":"imp2","index":15,"n_rows":25,"n_cols":2,"rows_kept":25,"cut":false,"hidden":true,"merged":[[24,0,24,1],[0,0,0,1],[1,0,1,1],[2,0,2,1],[3,0,3,1],[4,0,4,1],[8,0,8,1],[12,0,12,1],[17,0,18,0],[17,1,18,1],[20,0,20,1],[21,0,21,1]]}
["RELATÓRIO MENSAL DAS RECEITAS BRUTAS"]
["CNPJ:"]
["Empreendedor individual:"]
["Período de apuração:"]
["RECEITA BRUTA MENSAL – REVENDA DE MERCADORIAS (COMÉRCIO)"]
["I – Revenda de mercadorias com dispensa de emissão de documento fiscal",{"$f":"'2'!C1001","v":0}]
["II – Revenda de mercadorias com documento fiscal emitido",{"$f":"'2'!B1001","v":0}]
["III – Total das receitas com revenda de mercadorias (I + II)",{"$f":"SUM(B6:B7)","v":0}]
["RECEITA BRUTA MENSAL – VENDA DE PRODUTOS INDUSTRIALIZADOS (INDÚSTRIA)"]
["IV – Venda de produtos industrializados com dispensa de emissão de documento fiscal",{"$f":"'2'!G1001","v":0}]
["V – Venda de produtos industrializados com documento fiscal emitido",{"$f":"'2'!F1001","v":0}]
["VI – Total das receitas com venda de produtos industrializados (IV + V)",{"$f":"SUM(B10:B11)","v":0}]
["RECEITA BRUTA MENSAL – PRESTAÇÃO DE SERVIÇOS"]
["VII – Receita com prestação de serviços com dispensa de emissão de documento fiscal",{"$f":"'2'!K1001","v":0}]
["VIII – Receita com prestação de serviços com documento fiscal emitido",{"$f":"'2'!J1001","v":0}]
["IX – Total das receitas com prestação de serviços (VII + VIII)",{"$f":"SUM(B13:B15)","v":0}]
["X - Total geral das receitas brutas no mês (III + VI + IX)",{"$f":"B16+B12+B8","v":0}]
["LOCAL E DATA:","ASSINATURA DO EMPRESÁRIO:"]
[]
["ENCONTRAM-SE ANEXADOS E ESTE RELATÓRIO: -"]
[" -Os documentos fiscais comprobatórios das entradas de mercadorias e serviços tomados referentes ao período;"]
[" - As notas fiscais relativas às operações ou prestações realizadas eventualmente emitidas."]
[]
[]
[" -"]

{"sheet":"imp3","index":16,"n_rows":25,"n_cols":2,"rows_kept":25,"cut":false,"hidden":true,"merged":[[24,0,24,1],[0,0,0,1],[1,0,1,1],[2,0,2,1],[3,0,3,1],[4,0,4,1],[8,0,8,1],[12,0,12,1],[17,0,18,0],[17,1,18,1],[20,0,20,1],[21,0,21,1]]}
["RELATÓRIO MENSAL DAS RECEITAS BRUTAS"]
["CNPJ:"]
["Empreendedor individual:"]
["Período de apuração:"]
["RECEITA BRUTA MENSAL – REVENDA DE MERCADORIAS (COMÉRCIO)"]
["I – Revenda de mercadorias com dispensa de emissão de documento fiscal",{"$f":"'3'!C1001","v":0}]
["II – Revenda de mercadorias com documento fiscal emitido",{"$f":"'3'!B1001","v":0}]
["III – Total das receitas com revenda de mercadorias (I + II)",{"$f":"SUM(B6:B7)","v":0}]
["RECEITA BRUTA MENSAL – VENDA DE PRODUTOS INDUSTRIALIZADOS (INDÚSTRIA)"]
["IV – Venda de produtos industrializados com dispensa de emissão de documento fiscal",{"$f":"'3'!G1001","v":0}]
["V – Venda de produtos industrializados com documento fiscal emitido",{"$f":"'3'!F1001","v":0}]
["VI – Total das receitas com venda de produtos industrializados (IV + V)",{"$f":"SUM(B10:B11)","v":0}]
["RECEITA BRUTA MENSAL – PRESTAÇÃO DE SERVIÇOS"]
["VII – Receita com prestação de serviços com dispensa de emissão de documento fiscal",{"$f":"'3'!K1001","v":0}]
["VIII – Receita com prestação de serviços com documento fiscal emitido",{"$f":"'3'!J1001","v":0}]
["IX – Total das receitas com prestação de serviços (VII + VIII)",{"$f":"SUM(B13:B15)","v":0}]
["X - Total geral das receitas brutas no mês (III + VI + IX)",{"$f":"B16+B12+B8","v":0}]
["LOCAL E DATA:","ASSINATURA DO EMPRESÁRIO:"]
[]
["ENCONTRAM-SE ANEXADOS E ESTE RELATÓRIO: -"]
[" -Os documentos fiscais comprobatórios das entradas de mercadorias e serviços tomados referentes ao período;"]
[" - As notas fiscais relativas às operações ou prestações realizadas eventualmente emitidas."]
[]
[]
[" -"]

{"sheet":"imp4","index":17,"n_rows":25,"n_cols":2,"rows_kept":25,"cut":false,"hidden":true,"merged":[[24,0,24,1],[0,0,0,1],[1,0,1,1],[2,0,2,1],[3,0,3,1],[4,0,4,1],[8,0,8,1],[12,0,12,1],[17,0,18,0],[17,1,18,1],[20,0,20,1],[21,0,21,1]]}
["RELATÓRIO MENSAL DAS RECEITAS BRUTAS"]
["CNPJ:"]
["Empreendedor individual:"]
["Período de apuração:"]
["RECEITA BRUTA MENSAL – REVENDA DE MERCADORIAS (COMÉRCIO)"]
["I – Revenda de mercadorias com dispensa de emissão de documento fiscal",{"$f":"'4'!C1001","v":0}]
["II – Revenda de mercadorias com documento fiscal emitido",{"$f":"'4'!B1001","v":0}]
["III – Total das receitas com revenda de mercadorias (I + II)",{"$f":"SUM(B6:B7)","v":0}]
["RECEITA BRUTA MENSAL – VENDA DE PRODUTOS INDUSTRIALIZADOS (INDÚSTRIA)"]
["IV – Venda de produtos industrializados com dispensa de emissão de documento fiscal",{"$f":"'4'!G1001","v":0}]
["V – Venda de produtos industrializados com documento fiscal emitido",{"$f":"'4'!F1001","v":0}]
["VI – Total das receitas com venda de produtos industrializados (IV + V)",{"$f":"SUM(B10:B11)","v":0}]
["RECEITA BRUTA MENSAL – PRESTAÇÃO DE SERVIÇOS"]
["VII – Receita com prestação de serviços com dispensa de emissão de documento fiscal",{"$f":"'4'!K1001","v":0}]
["VIII – Receita com prestação de serviços com documento fiscal emitido",{"$f":"'4'!J1001","v":0}]
["IX – Total das receitas com prestação de serviços (VII + VIII)",{"$f":"SUM(B13:B15)","v":0}]
["X - Total geral das receitas brutas no mês (III + VI + IX)",{"$f":"B16+B12+B8","v":0}]
["LOCAL E DATA:","ASSINATURA DO EMPRESÁRIO:"]
[]
["ENCONTRAM-SE ANEXADOS E ESTE RELATÓRIO: -"]
[" -Os documentos fiscais comprobatórios das entradas de mercadorias e serviços tomados referentes ao período;"]
[" - As notas fiscais relativas às operações ou prestações realizadas eventualmente emitidas."]
[]
[]
[" -"]

{"sheet":"imp5","index":18,"n_rows":25,"n_cols":2,"rows_kept":25,"cut":false,"hidden":true,"merged":[[24,0,24,1],[0,0,0,1],[1,0,1,1],[2,0,2,1],[3,0,3,1],[4,0,4,1],[8,0,8,1],[12,0,12,1],[17,0,18,0],[17,1,18,1],[20,0,20,1],[21,0,21,1]]}
["RELATÓRIO MENSAL DAS RECEITAS BRUTAS"]
["CNPJ:"]
["Empreendedor individual:"]
["Período de apuração:"]
["RECEITA BRUTA MENSAL – REVENDA DE MERCADORIAS (COMÉRCIO)"]
["I – Revenda de mercadorias com dispensa de emissão de documento fiscal",{"$f":"'5'!C1001","v":0}]
["II – Revenda de mercadorias com documento fiscal emitido",{"$f":"'5'!B1001","v":0}]
["III – Total das receitas com revenda de mercadorias (I + II)",{"$f":"SUM(B6:B7)","v":0}]
["RECEITA BRUTA MENSAL – VENDA DE PRODUTOS INDUSTRIALIZADOS (INDÚSTRIA)"]
["IV – Venda de produtos industrializados com dispensa de emissão de documento fiscal",{"$f":"'5'!G1001","v":0}]
["V – Venda de produtos industrializados com documento fiscal emitido",{"$f":"'5'!F1001","v":0}]
["VI – Total das receitas com venda de produtos industrializados (IV + V)",{"$f":"SUM(B10:B11)","v":0}]
["RECEITA BRUTA MENSAL – PRESTAÇÃO DE SERVIÇOS"]
["VII – Receita com prestação de serviços com dispensa de emissão de documento fiscal",{"$f":"'5'!K1001","v":0}]
["VIII – Receita com prestação de serviços com documento fiscal emitido",{"$f":"'5'!J1001","v":0}]
["IX – Total das receitas com prestação de serviços (VII + VIII)",{"$f":"SUM(B13:B15)","v":0}]
["X - Total geral das receitas brutas no mês (III + VI + IX)",{"$f":"B16+B12+B8","v":0}]
["LOCAL E DATA:","ASSINATURA DO EMPRESÁRIO:"]
[]
["ENCONTRAM-SE ANEXADOS E ESTE RELATÓRIO: -"]
[" -Os documentos fiscais comprobatórios das entradas de mercadorias e serviços tomados referentes ao período;"]
[" - As notas fiscais relativas às operações ou prestações realizadas eventualmente emitidas."]
[]
[]
[" -"]

{"sheet":"imp6","index":19,"n_rows":25,"n_cols":2,"rows_kept":25,"cut":false,"hidden":true,"merged":[[24,0,24,1],[0,0,0,1],[1,0,1,1],[2,0,2,1],[3,0,3,1],[4,0,4,1],[8,0,8,1],[12,0,12,1],[17,0,18,0],[17,1,18,1],[20,0,20,1],[21,0,21,1]]}
["RELATÓRIO MENSAL DAS RECEITAS BRUTAS"]
["CNPJ:"]
["Empreendedor individual:"]
["Período de apuração:"]
["RECEITA BRUTA MENSAL – REVENDA DE MERCADORIAS (COMÉRCIO)"]
["I – Revenda de mercadorias com dispensa de emissão de documento fiscal",{"$f":"'6'!C1001","v":0}]
["II – Revenda de mercadorias com documento fiscal emitido",{"$f":"'6'!B1001","v":0}]
["III – Total das receitas com revenda de mercadorias (I + II)",{"$f":"SUM(B6:B7)","v":0}]
["RECEITA BRUTA MENSAL – VENDA DE PRODUTOS INDUSTRIALIZADOS (INDÚSTRIA)"]
["IV – Venda de produtos industrializados com dispensa de emissão de documento fiscal",{"$f":"'6'!G1001","v":0}]
["V – Venda de produtos industrializados com documento fiscal emitido",{"$f":"'6'!F1001","v":0}]
["VI – Total das receitas com venda de produtos industrializados (IV + V)",{"$f":"SUM(B10:B11)","v":0}]
["RECEITA BRUTA MENSAL – PRESTAÇÃO DE SERVIÇOS"]
["VII – Receita com prestação de serviços com dispensa de emissão de documento fiscal",{"$f":"'6'!K1001","v":0}]
["VIII – Receita com prestação de serviços com documento fiscal emitido",{"$f":"'6'!J1001","v":0}]
["IX – Total das receitas com prestação de serviços (VII + VIII)",{"$f":"SUM(B13:B15)","v":0}]
["X - Total geral das receitas brutas no mês (III + VI + IX)",{"$f":"B16+B12+B8","v":0}]
["LOCAL E DATA:","ASSINATURA DO EMPRESÁRIO:"]
[]
["ENCONTRAM-SE ANEXADOS E ESTE RELATÓRIO: -"]
[" -Os documentos fiscais comprobatórios das entradas de mercadorias e serviços tomados referentes ao período;"]
[" - As notas fiscais relativas às operações ou prestações realizadas eventualmente emitidas."]
[]
[]
[" -"]

{"sheet":"imp7","index":20,"n_rows":25,"n_cols":2,"rows_kept":25,"cut":false,"hidden":true,"merged":[[24,0,24,1],[0,0,0,1],[1,0,1,1],[2,0,2,1],[3,0,3,1],[4,0,4,1],[8,0,8,1],[12,0,12,1],[17,0,18,0],[17,1,18,1],[20,0,20,1],[21,0,21,1]]}
["RELATÓRIO MENSAL DAS RECEITAS BRUTAS"]
["CNPJ:"]
["Empreendedor individual:"]
["Período de apuração:"]
["RECEITA BRUTA MENSAL – REVENDA DE MERCADORIAS (COMÉRCIO)"]
["I – Revenda de mercadorias com dispensa de emissão de documento fiscal",{"$f":"'7'!C1001","v":0}]
["II – Revenda de mercadorias com documento fiscal emitido",{"$f":"'7'!B1001","v":0}]
["III – Total das receitas com revenda de mercadorias (I + II)",{"$f":"SUM(B6:B7)","v":0}]
["RECEITA BRUTA MENSAL – VENDA DE PRODUTOS INDUSTRIALIZADOS (INDÚSTRIA)"]
["IV – Venda de produtos industrializados com dispensa de emissão de documento fiscal",{"$f":"'7'!G1001","v":0}]
["V – Venda de produtos industrializados com documento fiscal emitido",{"$f":"'7'!F1001","v":0}]
["VI – Total das receitas com venda de produtos industrializados (IV + V)",{"$f":"SUM(B10:B11)","v":0}]
["RECEITA BRUTA MENSAL – PRESTAÇÃO DE SERVIÇOS"]
["VII – Receita com prestação de serviços com dispensa de emissão de documento fiscal",{"$f":"'7'!K1001","v":0}]
["VIII – Receita com prestação de serviços com documento fiscal emitido",{"$f":"'7'!J1001","v":0}]
["IX – Total das receitas com prestação de serviços (VII + VIII)",{"$f":"SUM(B13:B15)","v":0}]
["X - Total geral das receitas brutas no mês (III + VI + IX)",{"$f":"B16+B12+B8","v":0}]
["LOCAL E DATA:","ASSINATURA DO EMPRESÁRIO:"]
[]
["ENCONTRAM-SE ANEXADOS E ESTE RELATÓRIO: -"]
[" -Os documentos fiscais comprobatórios das entradas de mercadorias e serviços tomados referentes ao período;"]
[" - As notas fiscais relativas às operações ou prestações realizadas eventualmente emitidas."]
[]
[]
[" -"]

{"sheet":"imp8","index":21,"n_rows":25,"n_cols":2,"rows_kept":25,"cut":false,"hidden":true,"merged":[[24,0,24,1],[0,0,0,1],[1,0,1,1],[2,0,2,1],[3,0,3,1],[4,0,4,1],[8,0,8,1],[12,0,12,1],[17,0,18,0],[17,1,18,1],[20,0,20,1],[21,0,21,1]]}
["RELATÓRIO MENSAL DAS RECEITAS BRUTAS"]
["CNPJ:"]
["Empreendedor individual:"]
["Período de apuração:"]
["RECEITA BRUTA MENSAL – REVENDA DE MERCADORIAS (COMÉRCIO)"]
["I – Revenda de mercadorias com dispensa de emissão de documento fiscal",{"$f":"'8'!C1001","v":0}]
["II – Revenda de mercadorias com documento fiscal emitido",{"$f":"'8'!B1001","v":0}]
["III – Total das receitas com revenda de mercadorias (I + II)",{"$f":"SUM(B6:B7)","v":0}]
["RECEITA BRUTA MENSAL – VENDA DE PRODUTOS INDUSTRIALIZADOS (INDÚSTRIA)"]
["IV – Venda de produtos industrializados com dispensa de emissão de documento fiscal",{"$f":"'8'!G1001","v":0}]
["V – Venda de produtos industrializados com documento fiscal emitido",{"$f":"'8'!F1001","v":0}]
["VI – Total das receitas com venda de produtos industrializados (IV + V)",{"$f":"SUM(B10:B11)","v":0}]
["RECEITA BRUTA MENSAL – PRESTAÇÃO DE SERVIÇOS"]
["VII – Receita com prestação de serviços com dispensa de emissão de documento fiscal",{"$f":"'8'!K1001","v":0}]
["VIII – Receita com prestação de serviços com documento fiscal emitido",{"$f":"'8'!J1001","v":0}]
["IX – Total das receitas com prestação de serviços (VII + VIII)",{"$f":"SUM(B13:B15)","v":0}]
["X - Total geral das receitas brutas no mês (III + VI + IX)",{"$f":"B16+B12+B8","v":0}]
["LOCAL E DATA:","ASSINATURA DO EMPRESÁRIO:"]
[]
["ENCONTRAM-SE ANEXADOS E ESTE RELATÓRIO: -"]
[" -Os documentos fiscais comprobatórios das entradas de mercadorias e serviços tomados referentes ao período;"]
[" - As notas fiscais relativas às operações ou prestações realizadas eventualmente emitidas."]
[]
[]
[" -"]

{"sheet":"imp9","index":22,"n_rows":25,"n_cols":2,"rows_kept":25,"cut":false,"hidden":true,"merged":[[24,0,24,1],[0,0,0,1],[1,0,1,1],[2,0,2,1],[3,0,3,1],[4,0,4,1],[8,0,8,1],[12,0,12,1],[17,0,18,0],[17,1,18,1],[20,0,20,1],[21,0,21,1]]}
["RELATÓRIO MENSAL DAS RECEITAS BRUTAS"]
["CNPJ:"]
["Empreendedor individual:"]
["Período de apuração:"]
["RECEITA BRUTA MENSAL – REVENDA DE MERCADORIAS (COMÉRCIO)"]
["I – Revenda de mercadorias com dispensa de emissão de documento fiscal",{"$f":"'9'!C1001","v":0}]
["II – Revenda de mercadorias com documento fiscal emitido",{"$f":"'9'!B1001","v":0}]
["III – Total das receitas com revenda de mercadorias (I + II)",{"$f":"SUM(B6:B7)","v":0}]
["RECEITA BRUTA MENSAL – VENDA DE PRODUTOS INDUSTRIALIZADOS (INDÚSTRIA)"]
["IV – Venda de produtos industrializados com dispensa de emissão de documento fiscal",{"$f":"'9'!G1001","v":0}]
["V – Venda de produtos industrializados com documento fiscal emitido",{"$f":"'9'!F1001","v":0}]
["VI – Total das receitas com venda de produtos industrializados (IV + V)",{"$f":"SUM(B10:B11)","v":0}]
["RECEITA BRUTA MENSAL – PRESTAÇÃO DE SERVIÇOS"]
["VII – Receita com prestação de serviços com dispensa de emissão de documento fiscal",{"$f":"'9'!K1001","v":0}]
["VIII – Receita com prestação de serviços com documento fiscal emitido",{"$f":"'9'!J1001","v":0}]
["IX – Total das receitas com prestação de serviços (VII + VIII)",{"$f":"SUM(B13:B15)","v":0}]
["X - Total geral das receitas brutas no mês (III + VI + IX)",{"$f":"B16+B12+B8","v":0}]
["LOCAL E DATA:","ASSINATURA DO EMPRESÁRIO:"]
[]
["ENCONTRAM-SE ANEXADOS E ESTE RELATÓRIO: -"]
[" -Os documentos fiscais comprobatórios das entradas de mercadorias e serviços tomados referentes ao período;"]
[" - As notas fiscais relativas às operações ou prestações realizadas eventualmente emitidas."]
[]
[]
[" -"]

{"sheet":"imp10","index":23,"n_rows":25,"n_cols":2,"rows_kept":25,"cut":false,"hidden":true,"merged":[[24,0,24,1],[0,0,0,1],[1,0,1,1],[2,0,2,1],[3,0,3,1],[4,0,4,1],[8,0,8,1],[12,0,12,1],[17,0,18,0],[17,1,18,1],[20,0,20,1],[21,0,21,1]]}
["RELATÓRIO MENSAL DAS RECEITAS BRUTAS"]
["CNPJ:"]
["Empreendedor individual:"]
["Período de apuração:"]
["RECEITA BRUTA MENSAL – REVENDA DE MERCADORIAS (COMÉRCIO)"]
["I – Revenda de mercadorias com dispensa de emissão de documento fiscal",{"$f":"'10'!C1001","v":0}]
["II – Revenda de mercadorias com documento fiscal emitido",{"$f":"'10'!B1001","v":0}]
["III – Total das receitas com revenda de mercadorias (I + II)",{"$f":"SUM(B6:B7)","v":0}]
["RECEITA BRUTA MENSAL – VENDA DE PRODUTOS INDUSTRIALIZADOS (INDÚSTRIA)"]
["IV – Venda de produtos industrializados com dispensa de emissão de documento fiscal",{"$f":"'10'!G1001","v":0}]
["V – Venda de produtos industrializados com documento fiscal emitido",{"$f":"'10'!F1001","v":0}]
["VI – Total das receitas com venda de produtos industrializados (IV + V)",{"$f":"SUM(B10:B11)","v":0}]
["RECEITA BRUTA MENSAL – PRESTAÇÃO DE SERVIÇOS"]
["VII – Receita com prestação de serviços com dispensa de emissão de documento fiscal",{"$f":"'10'!K1001","v":0}]
["VIII – Receita com prestação de serviços com documento fiscal emitido",{"$f":"'10'!J1001","v":0}]
["IX – Total das receitas com prestação de serviços (VII + VIII)",{"$f":"SUM(B13:B15)","v":0}]
["X - Total geral das receitas brutas no mês (III + VI + IX)",{"$f":"B16+B12+B8","v":0}]
["LOCAL E DATA:","ASSINATURA DO EMPRESÁRIO:"]
[]
["ENCONTRAM-SE ANEXADOS E ESTE RELATÓRIO: -"]
[" -Os documentos fiscais comprobatórios das entradas de mercadorias e serviços tomados referentes ao período;"]
[" - As notas fiscais relativas às operações ou prestações realizadas eventualmente emitidas."]
[]
[]
[" -"]

{"sheet":"imp11","index":24,"n_rows":25,"n_cols":2,"rows_kept":25,"cut":false,"hidden":true,"merged":[[24,0,24,1],[0,0,0,1],[1,0,1,1],[2,0,2,1],[3,0,3,1],[4,0,4,1],[8,0,8,1],[12,0,12,1],[17,0,18,0],[17,1,18,1],[20,0,20,1],[21,0,21,1]]}
["RELATÓRIO MENSAL DAS RECEITAS BRUTAS"]
["CNPJ:"]
["Empreendedor individual:"]
["Período de apuração:"]
["RECEITA BRUTA MENSAL – REVENDA DE MERCADORIAS (COMÉRCIO)"]
["I – Revenda de mercadorias com dispensa de emissão de documento fiscal",{"$f":"'11'!C1001","v":0}]
["II – Revenda de mercadorias com documento fiscal emitido",{"$f":"'11'!B1001","v":0}]
["III – Total das receitas com revenda de mercadorias (I + II)",{"$f":"SUM(B6:B7)","v":0}]
["RECEITA BRUTA MENSAL – VENDA DE PRODUTOS INDUSTRIALIZADOS (INDÚSTRIA)"]
["IV – Venda de produtos industrializados com dispensa de emissão de documento fiscal",{"$f":"'11'!G1001","v":0}]
["V – Venda de produtos industrializados com documento fiscal emitido",{"$f":"'11'!F1001","v":0}]
["VI – Total das receitas com venda de produtos industrializados (IV + V)",{"$f":"SUM(B10:B11)","v":0}]
["RECEITA BRUTA MENSAL – PRESTAÇÃO DE SERVIÇOS"]
["VII – Receita com prestação de serviços com dispensa de emissão de documento fiscal",{"$f":"'11'!K1001","v":0}]
["VIII – Receita com prestação de serviços com documento fiscal emitido",{"$f":"'11'!J1001","v":0}]
["IX – Total das receitas com prestação de serviços (VII + VIII)",{"$f":"SUM(B13:B15)","v":0}]
["X - Total geral das receitas brutas no mês (III + VI + IX)",{"$f":"B16+B12+B8","v":0}]
["LOCAL E DATA:","ASSINATURA DO EMPRESÁRIO:"]
[]
["ENCONTRAM-SE ANEXADOS E ESTE RELATÓRIO: -"]
[" -Os documentos fiscais comprobatórios das entradas de mercadorias e serviços tomados referentes ao período;"]
[" - As notas fiscais relativas às operações ou prestações realizadas eventualmente emitidas."]
[]
[]
[" -"]

{"sheet":"imp12","index":25,"n_rows":25,"n_cols":2,"rows_kept":25,"cut":false,"hidden":true,"merged":[[24,0,24,1],[0,0,0,1],[1,0,1,1],[2,0,2,1],[3,0,3,1],[4,0,4,1],[8,0,8,1],[12,0,12,1],[17,0,18,0],[17,1,18,1],[20,0,20,1],[21,0,21,1]]}
["RELATÓRIO MENSAL DAS RECEITAS BRUTAS"]
["CNPJ:"]
["Empreendedor individual:"]
["Período de apuração:"]
["RECEITA BRUTA MENSAL – REVENDA DE MERCADORIAS (COMÉRCIO)"]
["I – Revenda de mercadorias com dispensa de emissão de documento fiscal",{"$f":"'12'!C1001","v":0}]
["II – Revenda de mercadorias com documento fiscal emitido",{"$f":"'12'!B1001","v":0}]
["III – Total das receitas com revenda de mercadorias (I + II)",{"$f":"SUM(B6:B7)","v":0}]
["RECEITA BRUTA MENSAL – VENDA DE PRODUTOS INDUSTRIALIZADOS (INDÚSTRIA)"]
["IV – Venda de produtos industrializados com dispensa de emissão de documento fiscal",{"$f":"'12'!G1001","v":0}]
["V – Venda de produtos industrializados com documento fiscal emitido",{"$f":"'12'!F1001","v":0}]
["VI – Total das receitas com venda de produtos industrializados (IV + V)",{"$f":"SUM(B10:B11)","v":0}]
["RECEITA BRUTA MENSAL – PRESTAÇÃO DE SERVIÇOS"]
["VII – Receita com prestação de serviços com dispensa de emissão de documento fiscal",{"$f":"'12'!K1001","v":0}]
["VIII – Receita com prestação de serviços com documento fiscal emitido",{"$f":"'12'!J1001","v":0}]
["IX – Total das receitas com prestação de serviços (VII + VIII)",{"$f":"SUM(B13:B15)","v":0}]
["X - Total geral das receitas brutas no mês (III + VI + IX)",{"$f":"B16+B12+B8","v":0}]
["LOCAL E DATA:","ASSINATURA DO EMPRESÁRIO:"]
[]
["ENCONTRAM-SE ANEXADOS E ESTE RELATÓRIO: -"]
[" -Os documentos fiscais comprobatórios das entradas de mercadorias e serviços tomados referentes ao período;"]
[" - As notas fiscais relativas às operações ou prestações realizadas eventualmente emitidas."]
[]
[]
[" -"]